iontree 1.2.0 Mingshu Cao
Snapshot Date: 2012-09-23 17:01:39 -0700 (Sun, 23 Sep 2012) | URL: https://hedgehog.fhcrc.org/bioconductor/branches/RELEASE_2_10/madman/Rpacks/iontree | Last Changed Rev: 68067 / Revision: 69725 | Last Changed Date: 2012-07-27 14:23:08 -0700 (Fri, 27 Jul 2012) |
| lamb2 | Linux (openSUSE 11.4) / x86_64 | OK | OK | |
moscato2 | Windows Server 2008 R2 Enterprise SP1 (64-bit) / x64 | OK | OK | OK |
petty | Mac OS X Leopard (10.5.8) / i386 | OK | OK | [ OK ] |
* installing to library '/Library/Frameworks/R.framework/Versions/2.15/Resources/library'
* installing *source* package 'iontree' ...
** R
** inst
** preparing package for lazy loading
Warning: replacing previous import 'show' when loading 'rJava'
Creating a generic function for 'plot' from package 'graphics' in package 'iontree'
** help
*** installing help indices
** building package indices
** installing vignettes
'iontree_doc.Rnw'
packaged installation of 'iontree' as 'iontree_1.2.0.tgz'
* DONE (iontree)