imageHTS 1.6.0 Gregoire Pau
 | Snapshot Date: 2012-03-31 17:01:49 -0700 (Sat, 31 Mar 2012) |  | URL: https://hedgehog.fhcrc.org/bioconductor/branches/RELEASE_2_10/madman/Rpacks/imageHTS |  | Last Changed Rev: 64678 / Revision: 64719 |  | Last Changed Date: 2012-03-30 15:05:02 -0700 (Fri, 30 Mar 2012) |  
  | lamb2  | Linux (openSUSE 11.4) / x86_64  |  OK  |  OK  |  | 
| puck5  | Linux (Ubuntu 12.04) / x86_64  | [ ERROR ] |  skipped  |  | 
| moscato2  | Windows Server 2008 R2 Enterprise SP1 (64-bit) / x64  |  OK  |  OK  |  OK  | 
| petty  | Mac OS X Leopard (10.5.8) / i386  | N O T   S U P P O R T E D | 
* checking for file 'imageHTS/DESCRIPTION' ... OK
* preparing 'imageHTS':
* checking DESCRIPTION meta-information ... OK
* installing the package to re-build vignettes
      -----------------------------------
ERROR: dependency 'EBImage' is not available for package 'imageHTS'
* removing '/tmp/RtmpEtqbJf/Rinst660d51bb6eaa/imageHTS'
      -----------------------------------
ERROR: package installation failed