ggbio 1.4.6 Tengfei Yin
 | Snapshot Date: 2012-09-23 17:01:39 -0700 (Sun, 23 Sep 2012) |  | URL: https://hedgehog.fhcrc.org/bioconductor/branches/RELEASE_2_10/madman/Rpacks/ggbio |  | Last Changed Rev: 65815 / Revision: 69725 |  | Last Changed Date: 2012-05-10 01:51:44 -0700 (Thu, 10 May 2012) |  
  | lamb2  | Linux (openSUSE 11.4) / x86_64  | [ OK ] |  ERROR  |  | 
| moscato2  | Windows Server 2008 R2 Enterprise SP1 (64-bit) / x64  |  OK  |  ERROR  |  OK  | 
| petty  | Mac OS X Leopard (10.5.8) / i386  |  OK  |  ERROR  |  OK  | 
* checking for file ‘ggbio/DESCRIPTION’ ... OK
* preparing ‘ggbio’:
* checking DESCRIPTION meta-information ... OK
* installing the package to re-build vignettes
* creating vignettes ... OK
* checking for LF line-endings in source and make files
* checking for empty or unneeded directories
* building ‘ggbio_1.4.6.tar.gz’