flowQ 1.16.0 Mike Jiang
 | Snapshot Date: 2012-09-23 17:01:39 -0700 (Sun, 23 Sep 2012) |  | URL: https://hedgehog.fhcrc.org/bioconductor/branches/RELEASE_2_10/madman/Rpacks/flowQ |  | Last Changed Rev: 64678 / Revision: 69725 |  | Last Changed Date: 2012-03-30 15:05:02 -0700 (Fri, 30 Mar 2012) |  
  | lamb2  | Linux (openSUSE 11.4) / x86_64  |  OK  |  OK  |  | 
| moscato2  | Windows Server 2008 R2 Enterprise SP1 (64-bit) / x64  |  OK  |  ERROR  |  OK  | 
| petty  | Mac OS X Leopard (10.5.8) / i386  |  OK  |  OK  | [ OK ] | 
>>>>>>> 
>>>>>>> INSTALLATION WITH 'R CMD INSTALL --preclean --no-multiarch --library=flowQ.buildbin-libdir flowQ_1.16.0.tar.gz'
>>>>>>> 
* installing *source* package 'flowQ' ...
** R
** data
** inst
** preparing package for lazy loading
Warning in rgl.init(initValue) : RGL: GLX extension missing on server
Warning in fun(libname, pkgname) : error in rgl_init
** help
*** installing help indices
** building package indices
** installing vignettes
   'DataQualityAssessment.Rnw' 
   'Extending-flowQ.Rnw' 
** testing if installed package can be loaded
Warning in rgl.init(initValue) : RGL: GLX extension missing on server
Warning in fun(libname, pkgname) : error in rgl_init
* DONE (flowQ)