| Back to the "Multiple platform build/check report" | [A] B C D E F G H I J K L M N O P Q R S T U V W X Y Z |
| Package 20/553 | Hostname | OS / Arch | BUILD | CHECK | BUILD BIN | ||||
| affyio 1.24.0 Benjamin Milo Bolstad
| lamb2 | Linux (openSUSE 11.4) / x86_64 | OK | OK | |||||
| moscato2 | Windows Server 2008 R2 Enterprise SP1 (64-bit) / x64 | OK | OK | OK | |||||
| petty | Mac OS X Leopard (10.5.8) / i386 | [ OK ] | OK | OK |
| Package: affyio |
| Version: 1.24.0 |
| Command: /Library/Frameworks/R.framework/Versions/2.15/Resources/bin/R CMD build --keep-empty-dirs --no-resave-data affyio |
| StartedAt: 2012-09-23 21:10:23 -0700 (Sun, 23 Sep 2012) |
| EndedAt: 2012-09-23 21:10:25 -0700 (Sun, 23 Sep 2012) |
| EllapsedTime: 1.9 seconds |
| RetCode: 0 |
| Status: OK |
| PackageFile: affyio_1.24.0.tar.gz |
| PackageFileSize: 111.6 KiB |
* checking for file 'affyio/DESCRIPTION' ... OK * preparing 'affyio': * checking DESCRIPTION meta-information ... OK * cleaning src * checking for LF line-endings in source and make files * checking for empty or unneeded directories * building 'affyio_1.24.0.tar.gz'