| Back to the "Multiple platform build/check report" | [A] B C D E F G H I J K L M N O P Q R S T U V W X Y Z | 
| Package 4/554 | Hostname | OS / Arch | BUILD | CHECK | BUILD BIN | ||||
| a4Core 1.4.0 Tobias Verbeke 
  | lamb2 | Linux (openSUSE 11.4) / x86_64 | OK | OK | |||||
| puck5 | Linux (Ubuntu 12.04) / x86_64 | [ OK ] | OK | ||||||
| moscato2 | Windows Server 2008 R2 Enterprise SP1 (64-bit) / x64 | OK | OK | OK | |||||
| petty | Mac OS X Leopard (10.5.8) / i386 | OK | OK | OK | 
| Package: a4Core | 
| Version: 1.4.0 | 
| Command: /home/hpages/test-puck5/bbs-2.10-bioc/R/bin/R CMD build --keep-empty-dirs --no-resave-data a4Core | 
| StartedAt: 2012-03-31 22:13:43 -0700 (Sat, 31 Mar 2012) | 
| EndedAt: 2012-03-31 22:13:43 -0700 (Sat, 31 Mar 2012) | 
| EllapsedTime: 0.7 seconds | 
| RetCode: 0 | 
| Status: OK | 
| PackageFile: a4Core_1.4.0.tar.gz | 
| PackageFileSize: 3.528 KiB | 
* checking for file 'a4Core/DESCRIPTION' ... OK * preparing 'a4Core': * checking DESCRIPTION meta-information ... OK * checking for LF line-endings in source and make files * checking for empty or unneeded directories * building 'a4Core_1.4.0.tar.gz'