RTools4TB 1.11.1 Aurelie Bergon
 | Snapshot Date: 2012-02-28 17:01:26 -0800 (Tue, 28 Feb 2012) |  | URL: https://hedgehog.fhcrc.org/bioconductor/trunk/madman/Rpacks/RTools4TB |  | Last Changed Rev: 60018 / Revision: 63265 |  | Last Changed Date: 2011-11-02 12:08:14 -0700 (Wed, 02 Nov 2011) |  
  | lamb2  | Linux (openSUSE 11.4) / x86_64  |  OK  |  OK  |  | 
| moscato2  | Windows Server 2008 R2 Enterprise SP1 (64-bit) / x64  | [ OK ] |  OK  |  OK  | 
| petty  | Mac OS X Snow Leopard (10.6.7) / i386  |  OK  |  OK  |  OK  | 
* checking for file 'RTools4TB/DESCRIPTION' ... OK
* preparing 'RTools4TB':
* checking DESCRIPTION meta-information ... OK
* cleaning src
* installing the package to re-build vignettes
* creating vignettes ... OK
* cleaning src
* checking for LF line-endings in source and make files
* checking for empty or unneeded directories
* looking to see if a 'data/datalist' file should be added
* building 'RTools4TB_1.11.1.tar.gz'