PAN 1.1.1 Xin Wang
 | Snapshot Date: 2012-03-19 17:01:15 -0700 (Mon, 19 Mar 2012) |  | URL: https://hedgehog.fhcrc.org/bioconductor/trunk/madman/Rpacks/PAN |  | Last Changed Rev: 61047 / Revision: 64130 |  | Last Changed Date: 2011-12-01 09:30:33 -0800 (Thu, 01 Dec 2011) |  
  | lamb2  | Linux (openSUSE 11.4) / x86_64  | [ OK ] |  OK  |  | 
| moscato2  | Windows Server 2008 R2 Enterprise SP1 (64-bit) / x64  |  OK  |  OK  |  OK  | 
| petty  | Mac OS X Leopard (10.5.8) / i386  |  OK  |  OK  |  OK  | 
* checking for file ‘PAN/DESCRIPTION’ ... OK
* preparing ‘PAN’:
* checking DESCRIPTION meta-information ... OK
* installing the package to re-build vignettes
* creating vignettes ... OK
* checking for LF line-endings in source and make files
* checking for empty or unneeded directories
* looking to see if a ‘data/datalist’ file should be added
* building ‘PAN_1.1.1.tar.gz’