| Back to the "Multiple platform build/check report" | A B C D E F G H I J [K] L M N O P Q R S T U V W X Y Z |
| Package 299/553 | Hostname | OS / Arch | BUILD | CHECK | BUILD BIN | ||||
| KEGGSOAP 1.30.4 Bioconductor Package Maintainer
| lamb2 | Linux (openSUSE 11.4) / x86_64 | OK | WARNINGS | |||||
| moscato2 | Windows Server 2008 R2 Enterprise SP1 (64-bit) / x64 | [ OK ] | WARNINGS | OK | |||||
| petty | Mac OS X Leopard (10.5.8) / i386 | OK | WARNINGS | OK |
| Package: KEGGSOAP |
| Version: 1.30.4 |
| Command: chmod a+r KEGGSOAP -R && E:\biocbld\bbs-2.10-bioc\R\bin\R.exe CMD build --keep-empty-dirs --no-resave-data KEGGSOAP |
| StartedAt: 2012-09-23 22:02:32 -0700 (Sun, 23 Sep 2012) |
| EndedAt: 2012-09-23 22:02:36 -0700 (Sun, 23 Sep 2012) |
| EllapsedTime: 4.7 seconds |
| RetCode: 0 |
| Status: OK |
| PackageFile: KEGGSOAP_1.30.4.tar.gz |
| PackageFileSize: 11.93 KiB |
* checking for file 'KEGGSOAP/DESCRIPTION' ... OK * preparing 'KEGGSOAP': * checking DESCRIPTION meta-information ... OK * checking for LF line-endings in source and make files * checking for empty or unneeded directories * building 'KEGGSOAP_1.30.4.tar.gz'