IdMappingRetrieval 1.2.0 Alex Lisovich , Roger Day
 | Snapshot Date: 2012-09-23 17:01:39 -0700 (Sun, 23 Sep 2012) |  | URL: https://hedgehog.fhcrc.org/bioconductor/branches/RELEASE_2_10/madman/Rpacks/IdMappingRetrieval |  | Last Changed Rev: 68113 / Revision: 69725 |  | Last Changed Date: 2012-07-31 10:54:34 -0700 (Tue, 31 Jul 2012) |  
  | lamb2  | Linux (openSUSE 11.4) / x86_64  |  OK  |  OK  |  | 
| moscato2  | Windows Server 2008 R2 Enterprise SP1 (64-bit) / x64  |  OK  |  OK  |  OK  | 
| petty  | Mac OS X Leopard (10.5.8) / i386  |  OK  |  OK  | [ OK ] | 
* installing to library '/Library/Frameworks/R.framework/Versions/2.15/Resources/library'
* installing *source* package 'IdMappingRetrieval' ...
** R
** demo
** inst
** preparing package for lazy loading
This is  ENVISIONQuery   1.4.0   2011-07-17 
Warning in setGenericS3.default(name, export = exportGeneric, envir = envir,  :
  Renamed the preexisting function getServices to getServices.default, which was defined in environment ENVISIONQuery.
** help
*** installing help indices
** building package indices
** installing vignettes
   'IdMappingRetrieval.Rnw' using 'latin-9' 
packaged installation of 'IdMappingRetrieval' as 'IdMappingRetrieval_1.2.0.tgz'
* DONE (IdMappingRetrieval)