Back to the "Multiple platform build/check report" A  B  C  D  E  F [G] H  I  J  K  L  M  N  O  P  Q  R  S  T  U  V  W  X  Y  Z 

Package 203/532HostnameOS / ArchBUILDCHECKBUILD BIN
GeneR 2.25.1
Y. d'Aubenton-Carafa
Snapshot Date: 2012-02-28 17:01:26 -0800 (Tue, 28 Feb 2012)
URL: https://hedgehog.fhcrc.org/bioconductor/trunk/madman/Rpacks/GeneR
Last Changed Rev: 60019 / Revision: 63265
Last Changed Date: 2011-11-02 12:09:18 -0700 (Wed, 02 Nov 2011)
lamb2 Linux (openSUSE 11.4) / x86_64  OK  OK 
moscato2 Windows Server 2008 R2 Enterprise SP1 (64-bit) / x64  OK  ERROR  OK 
petty Mac OS X Snow Leopard (10.6.7) / i386  OK  OK [ OK ]

Summary

Package: GeneR
Version: 2.25.1
Command: rm -rf GeneR.buildbin-libdir && mkdir GeneR.buildbin-libdir && /Users/biocbuild/BBS/utils/build-universal.sh GeneR_2.25.1.tar.gz /Library/Frameworks/R.framework/Versions/2.15/Resources/bin/R GeneR.buildbin-libdir
StartedAt: 2012-02-29 02:32:27 -0800 (Wed, 29 Feb 2012)
EndedAt: 2012-02-29 02:33:11 -0800 (Wed, 29 Feb 2012)
EllapsedTime: 44.1 seconds
RetCode: 0
Status:  OK 
PackageFile: GeneR_2.25.1.tgz
PackageFileSize: 497.3 KiB

Command output

>>>>>>> 
>>>>>>> INSTALLATION WITH 'R CMD INSTALL --preclean --no-multiarch --library=GeneR.buildbin-libdir GeneR_2.25.1.tar.gz'
>>>>>>> 

* installing *source* package 'GeneR' ...
** libs
*** arch - i386
g++ -arch i386 -I/Library/Frameworks/R.framework/Resources/include -I/Library/Frameworks/R.framework/Resources/include/i386 -DNDEBUG  -I/usr/local/include    -fPIC  -g -O2 -Wall -fasm-blocks  -c GeneR_glob.cc -o GeneR_glob.o
g++ -arch i386 -I/Library/Frameworks/R.framework/Resources/include -I/Library/Frameworks/R.framework/Resources/include/i386 -DNDEBUG  -I/usr/local/include    -fPIC  -g -O2 -Wall -fasm-blocks  -c GeneR_seq.cc -o GeneR_seq.o
g++ -arch i386 -I/Library/Frameworks/R.framework/Resources/include -I/Library/Frameworks/R.framework/Resources/include/i386 -DNDEBUG  -I/usr/local/include    -fPIC  -g -O2 -Wall -fasm-blocks  -c complementaire.cc -o complementaire.o
g++ -arch i386 -I/Library/Frameworks/R.framework/Resources/include -I/Library/Frameworks/R.framework/Resources/include/i386 -DNDEBUG  -I/usr/local/include    -fPIC  -g -O2 -Wall -fasm-blocks  -c compoSeq.cc -o compoSeq.o
g++ -arch i386 -I/Library/Frameworks/R.framework/Resources/include -I/Library/Frameworks/R.framework/Resources/include/i386 -DNDEBUG  -I/usr/local/include    -fPIC  -g -O2 -Wall -fasm-blocks  -c dnaRna.cc -o dnaRna.o
g++ -arch i386 -I/Library/Frameworks/R.framework/Resources/include -I/Library/Frameworks/R.framework/Resources/include/i386 -DNDEBUG  -I/usr/local/include    -fPIC  -g -O2 -Wall -fasm-blocks  -c libIndex.cc -o libIndex.o
g++ -arch i386 -I/Library/Frameworks/R.framework/Resources/include -I/Library/Frameworks/R.framework/Resources/include/i386 -DNDEBUG  -I/usr/local/include    -fPIC  -g -O2 -Wall -fasm-blocks  -c libStrings.cc -o libStrings.o
g++ -arch i386 -I/Library/Frameworks/R.framework/Resources/include -I/Library/Frameworks/R.framework/Resources/include/i386 -DNDEBUG  -I/usr/local/include    -fPIC  -g -O2 -Wall -fasm-blocks  -c makeIndex.cc -o makeIndex.o
g++ -arch i386 -I/Library/Frameworks/R.framework/Resources/include -I/Library/Frameworks/R.framework/Resources/include/i386 -DNDEBUG  -I/usr/local/include    -fPIC  -g -O2 -Wall -fasm-blocks  -c masked.cc -o masked.o
g++ -arch i386 -I/Library/Frameworks/R.framework/Resources/include -I/Library/Frameworks/R.framework/Resources/include/i386 -DNDEBUG  -I/usr/local/include    -fPIC  -g -O2 -Wall -fasm-blocks  -c misc.cc -o misc.o
misc.cc: In function 'SEXPREC* str_to_nbstr(SEXPREC*, SEXPREC*)':
misc.cc:31: warning: 'multiple' may be used uninitialized in this function
misc.cc:30: warning: 'ans' may be used uninitialized in this function
g++ -arch i386 -I/Library/Frameworks/R.framework/Resources/include -I/Library/Frameworks/R.framework/Resources/include/i386 -DNDEBUG  -I/usr/local/include    -fPIC  -g -O2 -Wall -fasm-blocks  -c readEmblDescript.cc -o readEmblDescript.o
g++ -arch i386 -I/Library/Frameworks/R.framework/Resources/include -I/Library/Frameworks/R.framework/Resources/include/i386 -DNDEBUG  -I/usr/local/include    -fPIC  -g -O2 -Wall -fasm-blocks  -c readIndex.cc -o readIndex.o
g++ -arch i386 -I/Library/Frameworks/R.framework/Resources/include -I/Library/Frameworks/R.framework/Resources/include/i386 -DNDEBUG  -I/usr/local/include    -fPIC  -g -O2 -Wall -fasm-blocks  -c readLocation.cc -o readLocation.o
g++ -arch i386 -I/Library/Frameworks/R.framework/Resources/include -I/Library/Frameworks/R.framework/Resources/include/i386 -DNDEBUG  -I/usr/local/include    -fPIC  -g -O2 -Wall -fasm-blocks  -c readSeqEmbl.cc -o readSeqEmbl.o
g++ -arch i386 -I/Library/Frameworks/R.framework/Resources/include -I/Library/Frameworks/R.framework/Resources/include/i386 -DNDEBUG  -I/usr/local/include    -fPIC  -g -O2 -Wall -fasm-blocks  -c readSeqFasta.cc -o readSeqFasta.o
g++ -arch i386 -I/Library/Frameworks/R.framework/Resources/include -I/Library/Frameworks/R.framework/Resources/include/i386 -DNDEBUG  -I/usr/local/include    -fPIC  -g -O2 -Wall -fasm-blocks  -c readSeqGbk.cc -o readSeqGbk.o
g++ -arch i386 -I/Library/Frameworks/R.framework/Resources/include -I/Library/Frameworks/R.framework/Resources/include/i386 -DNDEBUG  -I/usr/local/include    -fPIC  -g -O2 -Wall -fasm-blocks  -c seqManip.cc -o seqManip.o
gcc -arch i386 -std=gnu99 -I/Library/Frameworks/R.framework/Resources/include -I/Library/Frameworks/R.framework/Resources/include/i386 -DNDEBUG  -I/usr/local/include    -fPIC  -g -O2 -Wall -pedantic  -c strcasestr.c -o strcasestr.o
g++ -arch i386 -I/Library/Frameworks/R.framework/Resources/include -I/Library/Frameworks/R.framework/Resources/include/i386 -DNDEBUG  -I/usr/local/include    -fPIC  -g -O2 -Wall -fasm-blocks  -c translate.cc -o translate.o
g++ -arch i386 -I/Library/Frameworks/R.framework/Resources/include -I/Library/Frameworks/R.framework/Resources/include/i386 -DNDEBUG  -I/usr/local/include    -fPIC  -g -O2 -Wall -fasm-blocks  -c upperSeq.cc -o upperSeq.o
g++ -arch i386 -I/Library/Frameworks/R.framework/Resources/include -I/Library/Frameworks/R.framework/Resources/include/i386 -DNDEBUG  -I/usr/local/include    -fPIC  -g -O2 -Wall -fasm-blocks  -c vecteurs.cc -o vecteurs.o
g++ -arch i386 -I/Library/Frameworks/R.framework/Resources/include -I/Library/Frameworks/R.framework/Resources/include/i386 -DNDEBUG  -I/usr/local/include    -fPIC  -g -O2 -Wall -fasm-blocks  -c writeFasta.cc -o writeFasta.o
g++ -arch i386 -dynamiclib -Wl,-headerpad_max_install_names -undefined dynamic_lookup -single_module -multiply_defined suppress -L/usr/local/lib -o GeneR.so GeneR_glob.o GeneR_seq.o complementaire.o compoSeq.o dnaRna.o libIndex.o libStrings.o makeIndex.o masked.o misc.o readEmblDescript.o readIndex.o readLocation.o readSeqEmbl.o readSeqFasta.o readSeqGbk.o seqManip.o strcasestr.o translate.o upperSeq.o vecteurs.o writeFasta.o -F/Library/Frameworks/R.framework/.. -framework R -Wl,-framework -Wl,CoreFoundation
installing to /Users/biocbuild/bbs-2.10-bioc/meat/GeneR.buildbin-libdir/GeneR/libs/i386
** R
** demo
** inst
** preparing package for lazy loading
** help
*** installing help indices
** building package indices
** installing vignettes
   'GeneR.Rnw' 
** testing if installed package can be loaded

* DONE (GeneR)


>>>>>>> 
>>>>>>> FIXING LINKS FOR GeneR.buildbin-libdir/GeneR/libs/i386/GeneR.so
>>>>>>> 

install_name_tool -change "/usr/local/lib/libgcc_s.1.dylib" "/Library/Frameworks/R.framework/Versions/2.15/Resources/lib/libgcc_s.1.dylib" "GeneR.buildbin-libdir/GeneR/libs/i386/GeneR.so"
install_name_tool -change "/usr/local/lib/libgfortran.2.dylib" "/Library/Frameworks/R.framework/Versions/2.15/Resources/lib/libgfortran.2.dylib" "GeneR.buildbin-libdir/GeneR/libs/i386/GeneR.so"
install_name_tool -change "/usr/local/lib/libreadline.5.2.dylib" "/Library/Frameworks/R.framework/Versions/2.15/Resources/lib/libreadline.5.2.dylib" "GeneR.buildbin-libdir/GeneR/libs/i386/GeneR.so"
install_name_tool -change "/usr/local/lib/libreadline.dylib" "/Library/Frameworks/R.framework/Versions/2.15/Resources/lib/libreadline.dylib" "GeneR.buildbin-libdir/GeneR/libs/i386/GeneR.so"


>>>>>>> 
>>>>>>> INSTALLATION OF ppc LIBS WITH 'R_ARCH=/ppc R CMD INSTALL --preclean --no-multiarch --no-test-load --library=GeneR.buildbin-libdir --libs-only GeneR_2.25.1.tar.gz'
>>>>>>> 

* installing *source* package 'GeneR' ...
** libs
*** arch - ppc
g++ -arch ppc -I/Library/Frameworks/R.framework/Resources/include -I/Library/Frameworks/R.framework/Resources/include/ppc -DNDEBUG  -I/usr/local/include    -fPIC  -g -O2 -Wall -fasm-blocks  -c GeneR_glob.cc -o GeneR_glob.o
g++ -arch ppc -I/Library/Frameworks/R.framework/Resources/include -I/Library/Frameworks/R.framework/Resources/include/ppc -DNDEBUG  -I/usr/local/include    -fPIC  -g -O2 -Wall -fasm-blocks  -c GeneR_seq.cc -o GeneR_seq.o
g++ -arch ppc -I/Library/Frameworks/R.framework/Resources/include -I/Library/Frameworks/R.framework/Resources/include/ppc -DNDEBUG  -I/usr/local/include    -fPIC  -g -O2 -Wall -fasm-blocks  -c complementaire.cc -o complementaire.o
g++ -arch ppc -I/Library/Frameworks/R.framework/Resources/include -I/Library/Frameworks/R.framework/Resources/include/ppc -DNDEBUG  -I/usr/local/include    -fPIC  -g -O2 -Wall -fasm-blocks  -c compoSeq.cc -o compoSeq.o
g++ -arch ppc -I/Library/Frameworks/R.framework/Resources/include -I/Library/Frameworks/R.framework/Resources/include/ppc -DNDEBUG  -I/usr/local/include    -fPIC  -g -O2 -Wall -fasm-blocks  -c dnaRna.cc -o dnaRna.o
g++ -arch ppc -I/Library/Frameworks/R.framework/Resources/include -I/Library/Frameworks/R.framework/Resources/include/ppc -DNDEBUG  -I/usr/local/include    -fPIC  -g -O2 -Wall -fasm-blocks  -c libIndex.cc -o libIndex.o
g++ -arch ppc -I/Library/Frameworks/R.framework/Resources/include -I/Library/Frameworks/R.framework/Resources/include/ppc -DNDEBUG  -I/usr/local/include    -fPIC  -g -O2 -Wall -fasm-blocks  -c libStrings.cc -o libStrings.o
g++ -arch ppc -I/Library/Frameworks/R.framework/Resources/include -I/Library/Frameworks/R.framework/Resources/include/ppc -DNDEBUG  -I/usr/local/include    -fPIC  -g -O2 -Wall -fasm-blocks  -c makeIndex.cc -o makeIndex.o
g++ -arch ppc -I/Library/Frameworks/R.framework/Resources/include -I/Library/Frameworks/R.framework/Resources/include/ppc -DNDEBUG  -I/usr/local/include    -fPIC  -g -O2 -Wall -fasm-blocks  -c masked.cc -o masked.o
g++ -arch ppc -I/Library/Frameworks/R.framework/Resources/include -I/Library/Frameworks/R.framework/Resources/include/ppc -DNDEBUG  -I/usr/local/include    -fPIC  -g -O2 -Wall -fasm-blocks  -c misc.cc -o misc.o
misc.cc: In function 'SEXPREC* str_to_nbstr(SEXPREC*, SEXPREC*)':
misc.cc:31: warning: 'multiple' may be used uninitialized in this function
misc.cc:30: warning: 'ans' may be used uninitialized in this function
g++ -arch ppc -I/Library/Frameworks/R.framework/Resources/include -I/Library/Frameworks/R.framework/Resources/include/ppc -DNDEBUG  -I/usr/local/include    -fPIC  -g -O2 -Wall -fasm-blocks  -c readEmblDescript.cc -o readEmblDescript.o
g++ -arch ppc -I/Library/Frameworks/R.framework/Resources/include -I/Library/Frameworks/R.framework/Resources/include/ppc -DNDEBUG  -I/usr/local/include    -fPIC  -g -O2 -Wall -fasm-blocks  -c readIndex.cc -o readIndex.o
g++ -arch ppc -I/Library/Frameworks/R.framework/Resources/include -I/Library/Frameworks/R.framework/Resources/include/ppc -DNDEBUG  -I/usr/local/include    -fPIC  -g -O2 -Wall -fasm-blocks  -c readLocation.cc -o readLocation.o
g++ -arch ppc -I/Library/Frameworks/R.framework/Resources/include -I/Library/Frameworks/R.framework/Resources/include/ppc -DNDEBUG  -I/usr/local/include    -fPIC  -g -O2 -Wall -fasm-blocks  -c readSeqEmbl.cc -o readSeqEmbl.o
g++ -arch ppc -I/Library/Frameworks/R.framework/Resources/include -I/Library/Frameworks/R.framework/Resources/include/ppc -DNDEBUG  -I/usr/local/include    -fPIC  -g -O2 -Wall -fasm-blocks  -c readSeqFasta.cc -o readSeqFasta.o
g++ -arch ppc -I/Library/Frameworks/R.framework/Resources/include -I/Library/Frameworks/R.framework/Resources/include/ppc -DNDEBUG  -I/usr/local/include    -fPIC  -g -O2 -Wall -fasm-blocks  -c readSeqGbk.cc -o readSeqGbk.o
g++ -arch ppc -I/Library/Frameworks/R.framework/Resources/include -I/Library/Frameworks/R.framework/Resources/include/ppc -DNDEBUG  -I/usr/local/include    -fPIC  -g -O2 -Wall -fasm-blocks  -c seqManip.cc -o seqManip.o
gcc -arch ppc -std=gnu99 -I/Library/Frameworks/R.framework/Resources/include -I/Library/Frameworks/R.framework/Resources/include/ppc -DNDEBUG  -I/usr/local/include    -fPIC  -g -O2 -Wall -pedantic  -c strcasestr.c -o strcasestr.o
g++ -arch ppc -I/Library/Frameworks/R.framework/Resources/include -I/Library/Frameworks/R.framework/Resources/include/ppc -DNDEBUG  -I/usr/local/include    -fPIC  -g -O2 -Wall -fasm-blocks  -c translate.cc -o translate.o
g++ -arch ppc -I/Library/Frameworks/R.framework/Resources/include -I/Library/Frameworks/R.framework/Resources/include/ppc -DNDEBUG  -I/usr/local/include    -fPIC  -g -O2 -Wall -fasm-blocks  -c upperSeq.cc -o upperSeq.o
g++ -arch ppc -I/Library/Frameworks/R.framework/Resources/include -I/Library/Frameworks/R.framework/Resources/include/ppc -DNDEBUG  -I/usr/local/include    -fPIC  -g -O2 -Wall -fasm-blocks  -c vecteurs.cc -o vecteurs.o
g++ -arch ppc -I/Library/Frameworks/R.framework/Resources/include -I/Library/Frameworks/R.framework/Resources/include/ppc -DNDEBUG  -I/usr/local/include    -fPIC  -g -O2 -Wall -fasm-blocks  -c writeFasta.cc -o writeFasta.o
g++ -arch ppc -dynamiclib -Wl,-headerpad_max_install_names -undefined dynamic_lookup -single_module -multiply_defined suppress -L/usr/local/lib -o GeneR.so GeneR_glob.o GeneR_seq.o complementaire.o compoSeq.o dnaRna.o libIndex.o libStrings.o makeIndex.o masked.o misc.o readEmblDescript.o readIndex.o readLocation.o readSeqEmbl.o readSeqFasta.o readSeqGbk.o seqManip.o strcasestr.o translate.o upperSeq.o vecteurs.o writeFasta.o -F/Library/Frameworks/R.framework/.. -framework R -Wl,-framework -Wl,CoreFoundation
installing to /Users/biocbuild/bbs-2.10-bioc/meat/GeneR.buildbin-libdir/GeneR/libs/ppc

* DONE (GeneR)


>>>>>>> 
>>>>>>> FIXING LINKS FOR GeneR.buildbin-libdir/GeneR/libs/ppc/GeneR.so
>>>>>>> 

install_name_tool -change "/usr/local/lib/libgcc_s.1.dylib" "/Library/Frameworks/R.framework/Versions/2.15/Resources/lib/libgcc_s.1.dylib" "GeneR.buildbin-libdir/GeneR/libs/ppc/GeneR.so"
install_name_tool -change "/usr/local/lib/libgfortran.2.dylib" "/Library/Frameworks/R.framework/Versions/2.15/Resources/lib/libgfortran.2.dylib" "GeneR.buildbin-libdir/GeneR/libs/ppc/GeneR.so"
install_name_tool -change "/usr/local/lib/libreadline.5.2.dylib" "/Library/Frameworks/R.framework/Versions/2.15/Resources/lib/libreadline.5.2.dylib" "GeneR.buildbin-libdir/GeneR/libs/ppc/GeneR.so"
install_name_tool -change "/usr/local/lib/libreadline.dylib" "/Library/Frameworks/R.framework/Versions/2.15/Resources/lib/libreadline.dylib" "GeneR.buildbin-libdir/GeneR/libs/ppc/GeneR.so"


>>>>>>> 
>>>>>>> INSTALLATION OF x86_64 LIBS WITH 'R_ARCH=/x86_64 R CMD INSTALL --preclean --no-multiarch --no-test-load --library=GeneR.buildbin-libdir --libs-only GeneR_2.25.1.tar.gz'
>>>>>>> 

* installing *source* package 'GeneR' ...
** libs
*** arch - x86_64
g++ -arch x86_64 -I/Library/Frameworks/R.framework/Resources/include -I/Library/Frameworks/R.framework/Resources/include/x86_64 -DNDEBUG  -I/usr/local/include    -fPIC  -g -O2 -Wall -fasm-blocks  -c GeneR_glob.cc -o GeneR_glob.o
g++ -arch x86_64 -I/Library/Frameworks/R.framework/Resources/include -I/Library/Frameworks/R.framework/Resources/include/x86_64 -DNDEBUG  -I/usr/local/include    -fPIC  -g -O2 -Wall -fasm-blocks  -c GeneR_seq.cc -o GeneR_seq.o
g++ -arch x86_64 -I/Library/Frameworks/R.framework/Resources/include -I/Library/Frameworks/R.framework/Resources/include/x86_64 -DNDEBUG  -I/usr/local/include    -fPIC  -g -O2 -Wall -fasm-blocks  -c complementaire.cc -o complementaire.o
g++ -arch x86_64 -I/Library/Frameworks/R.framework/Resources/include -I/Library/Frameworks/R.framework/Resources/include/x86_64 -DNDEBUG  -I/usr/local/include    -fPIC  -g -O2 -Wall -fasm-blocks  -c compoSeq.cc -o compoSeq.o
g++ -arch x86_64 -I/Library/Frameworks/R.framework/Resources/include -I/Library/Frameworks/R.framework/Resources/include/x86_64 -DNDEBUG  -I/usr/local/include    -fPIC  -g -O2 -Wall -fasm-blocks  -c dnaRna.cc -o dnaRna.o
g++ -arch x86_64 -I/Library/Frameworks/R.framework/Resources/include -I/Library/Frameworks/R.framework/Resources/include/x86_64 -DNDEBUG  -I/usr/local/include    -fPIC  -g -O2 -Wall -fasm-blocks  -c libIndex.cc -o libIndex.o
g++ -arch x86_64 -I/Library/Frameworks/R.framework/Resources/include -I/Library/Frameworks/R.framework/Resources/include/x86_64 -DNDEBUG  -I/usr/local/include    -fPIC  -g -O2 -Wall -fasm-blocks  -c libStrings.cc -o libStrings.o
g++ -arch x86_64 -I/Library/Frameworks/R.framework/Resources/include -I/Library/Frameworks/R.framework/Resources/include/x86_64 -DNDEBUG  -I/usr/local/include    -fPIC  -g -O2 -Wall -fasm-blocks  -c makeIndex.cc -o makeIndex.o
g++ -arch x86_64 -I/Library/Frameworks/R.framework/Resources/include -I/Library/Frameworks/R.framework/Resources/include/x86_64 -DNDEBUG  -I/usr/local/include    -fPIC  -g -O2 -Wall -fasm-blocks  -c masked.cc -o masked.o
g++ -arch x86_64 -I/Library/Frameworks/R.framework/Resources/include -I/Library/Frameworks/R.framework/Resources/include/x86_64 -DNDEBUG  -I/usr/local/include    -fPIC  -g -O2 -Wall -fasm-blocks  -c misc.cc -o misc.o
misc.cc: In function 'SEXPREC* str_to_nbstr(SEXPREC*, SEXPREC*)':
misc.cc:31: warning: 'multiple' may be used uninitialized in this function
misc.cc:30: warning: 'ans' may be used uninitialized in this function
g++ -arch x86_64 -I/Library/Frameworks/R.framework/Resources/include -I/Library/Frameworks/R.framework/Resources/include/x86_64 -DNDEBUG  -I/usr/local/include    -fPIC  -g -O2 -Wall -fasm-blocks  -c readEmblDescript.cc -o readEmblDescript.o
g++ -arch x86_64 -I/Library/Frameworks/R.framework/Resources/include -I/Library/Frameworks/R.framework/Resources/include/x86_64 -DNDEBUG  -I/usr/local/include    -fPIC  -g -O2 -Wall -fasm-blocks  -c readIndex.cc -o readIndex.o
g++ -arch x86_64 -I/Library/Frameworks/R.framework/Resources/include -I/Library/Frameworks/R.framework/Resources/include/x86_64 -DNDEBUG  -I/usr/local/include    -fPIC  -g -O2 -Wall -fasm-blocks  -c readLocation.cc -o readLocation.o
g++ -arch x86_64 -I/Library/Frameworks/R.framework/Resources/include -I/Library/Frameworks/R.framework/Resources/include/x86_64 -DNDEBUG  -I/usr/local/include    -fPIC  -g -O2 -Wall -fasm-blocks  -c readSeqEmbl.cc -o readSeqEmbl.o
g++ -arch x86_64 -I/Library/Frameworks/R.framework/Resources/include -I/Library/Frameworks/R.framework/Resources/include/x86_64 -DNDEBUG  -I/usr/local/include    -fPIC  -g -O2 -Wall -fasm-blocks  -c readSeqFasta.cc -o readSeqFasta.o
g++ -arch x86_64 -I/Library/Frameworks/R.framework/Resources/include -I/Library/Frameworks/R.framework/Resources/include/x86_64 -DNDEBUG  -I/usr/local/include    -fPIC  -g -O2 -Wall -fasm-blocks  -c readSeqGbk.cc -o readSeqGbk.o
g++ -arch x86_64 -I/Library/Frameworks/R.framework/Resources/include -I/Library/Frameworks/R.framework/Resources/include/x86_64 -DNDEBUG  -I/usr/local/include    -fPIC  -g -O2 -Wall -fasm-blocks  -c seqManip.cc -o seqManip.o
gcc -arch x86_64 -std=gnu99 -I/Library/Frameworks/R.framework/Resources/include -I/Library/Frameworks/R.framework/Resources/include/x86_64 -DNDEBUG  -I/usr/local/include    -fPIC  -g -O2 -Wall -pedantic  -c strcasestr.c -o strcasestr.o
g++ -arch x86_64 -I/Library/Frameworks/R.framework/Resources/include -I/Library/Frameworks/R.framework/Resources/include/x86_64 -DNDEBUG  -I/usr/local/include    -fPIC  -g -O2 -Wall -fasm-blocks  -c translate.cc -o translate.o
g++ -arch x86_64 -I/Library/Frameworks/R.framework/Resources/include -I/Library/Frameworks/R.framework/Resources/include/x86_64 -DNDEBUG  -I/usr/local/include    -fPIC  -g -O2 -Wall -fasm-blocks  -c upperSeq.cc -o upperSeq.o
g++ -arch x86_64 -I/Library/Frameworks/R.framework/Resources/include -I/Library/Frameworks/R.framework/Resources/include/x86_64 -DNDEBUG  -I/usr/local/include    -fPIC  -g -O2 -Wall -fasm-blocks  -c vecteurs.cc -o vecteurs.o
g++ -arch x86_64 -I/Library/Frameworks/R.framework/Resources/include -I/Library/Frameworks/R.framework/Resources/include/x86_64 -DNDEBUG  -I/usr/local/include    -fPIC  -g -O2 -Wall -fasm-blocks  -c writeFasta.cc -o writeFasta.o
g++ -arch x86_64 -dynamiclib -Wl,-headerpad_max_install_names -undefined dynamic_lookup -single_module -multiply_defined suppress -L/usr/local/lib -o GeneR.so GeneR_glob.o GeneR_seq.o complementaire.o compoSeq.o dnaRna.o libIndex.o libStrings.o makeIndex.o masked.o misc.o readEmblDescript.o readIndex.o readLocation.o readSeqEmbl.o readSeqFasta.o readSeqGbk.o seqManip.o strcasestr.o translate.o upperSeq.o vecteurs.o writeFasta.o -F/Library/Frameworks/R.framework/.. -framework R -Wl,-framework -Wl,CoreFoundation
installing to /Users/biocbuild/bbs-2.10-bioc/meat/GeneR.buildbin-libdir/GeneR/libs/x86_64

* DONE (GeneR)


>>>>>>> 
>>>>>>> FIXING LINKS FOR GeneR.buildbin-libdir/GeneR/libs/x86_64/GeneR.so
>>>>>>> 

install_name_tool -change "/usr/local/lib/libgcc_s.1.dylib" "/Library/Frameworks/R.framework/Versions/2.15/Resources/lib/libgcc_s.1.dylib" "GeneR.buildbin-libdir/GeneR/libs/x86_64/GeneR.so"
install_name_tool -change "/usr/local/lib/libgfortran.2.dylib" "/Library/Frameworks/R.framework/Versions/2.15/Resources/lib/libgfortran.2.dylib" "GeneR.buildbin-libdir/GeneR/libs/x86_64/GeneR.so"
install_name_tool -change "/usr/local/lib/libreadline.5.2.dylib" "/Library/Frameworks/R.framework/Versions/2.15/Resources/lib/libreadline.5.2.dylib" "GeneR.buildbin-libdir/GeneR/libs/x86_64/GeneR.so"
install_name_tool -change "/usr/local/lib/libreadline.dylib" "/Library/Frameworks/R.framework/Versions/2.15/Resources/lib/libreadline.dylib" "GeneR.buildbin-libdir/GeneR/libs/x86_64/GeneR.so"