Biobase 2.16.0 Bioconductor Package Maintainer
 | Snapshot Date: 2012-09-23 17:01:39 -0700 (Sun, 23 Sep 2012) |  | URL: https://hedgehog.fhcrc.org/bioconductor/branches/RELEASE_2_10/madman/Rpacks/Biobase |  | Last Changed Rev: 64678 / Revision: 69725 |  | Last Changed Date: 2012-03-30 15:05:02 -0700 (Fri, 30 Mar 2012) |  
  | lamb2  | Linux (openSUSE 11.4) / x86_64  |  OK  |  OK  |  | 
| moscato2  | Windows Server 2008 R2 Enterprise SP1 (64-bit) / x64  |  OK  |  OK  | [ OK ] | 
| petty  | Mac OS X Leopard (10.5.8) / i386  |  OK  |  OK  |  OK  | 
install for i386
* installing *source* package 'Biobase' ...
** libs
gcc  -I"E:/biocbld/BBS-2˜1.10-/R/include" -DNDEBUG          -O3 -Wall  -std=gnu99 -mtune=core2 -c Rinit.c -o Rinit.o
gcc  -I"E:/biocbld/BBS-2˜1.10-/R/include" -DNDEBUG          -O3 -Wall  -std=gnu99 -mtune=core2 -c anyMissing.c -o anyMissing.o
gcc  -I"E:/biocbld/BBS-2˜1.10-/R/include" -DNDEBUG          -O3 -Wall  -std=gnu99 -mtune=core2 -c envir.c -o envir.o
gcc  -I"E:/biocbld/BBS-2˜1.10-/R/include" -DNDEBUG          -O3 -Wall  -std=gnu99 -mtune=core2 -c matchpt.c -o matchpt.o
gcc  -I"E:/biocbld/BBS-2˜1.10-/R/include" -DNDEBUG          -O3 -Wall  -std=gnu99 -mtune=core2 -c rowMedians.c -o rowMedians.o
gcc  -I"E:/biocbld/BBS-2˜1.10-/R/include" -DNDEBUG          -O3 -Wall  -std=gnu99 -mtune=core2 -c sublist_extract.c -o sublist_extract.o
gcc -shared -s -static-libgcc -o Biobase.dll tmp.def Rinit.o anyMissing.o envir.o matchpt.o rowMedians.o sublist_extract.o -LE:/biocbld/BBS-2˜1.10-/R/bin/i386 -lR
installing to E:/biocbld/bbs-2.10-bioc/meat/Biobase.buildbin-libdir/Biobase/libs/i386
** R
** data
** inst
** preparing package for lazy loading
** help
*** installing help indices
** building package indices
** installing vignettes
   'BiobaseDevelopment.Rnw' 
   'Bioconductor.Rnw' 
   'ExpressionSetIntroduction.Rnw' 
   'HowTo.Rnw' 
   'Qviews.Rnw' 
   'esApply.Rnw' 
** testing if installed package can be loaded
install for x64
* installing *source* package 'Biobase' ...
** libs
gcc -m64 -I"E:/biocbld/BBS-2˜1.10-/R/include" -DNDEBUG     -I"d:/RCompile/CRANpkg/extralibs64/local/include"     -O2 -Wall  -std=gnu99 -mtune=core2 -c Rinit.c -o Rinit.o
gcc -m64 -I"E:/biocbld/BBS-2˜1.10-/R/include" -DNDEBUG     -I"d:/RCompile/CRANpkg/extralibs64/local/include"     -O2 -Wall  -std=gnu99 -mtune=core2 -c anyMissing.c -o anyMissing.o
gcc -m64 -I"E:/biocbld/BBS-2˜1.10-/R/include" -DNDEBUG     -I"d:/RCompile/CRANpkg/extralibs64/local/include"     -O2 -Wall  -std=gnu99 -mtune=core2 -c envir.c -o envir.o
gcc -m64 -I"E:/biocbld/BBS-2˜1.10-/R/include" -DNDEBUG     -I"d:/RCompile/CRANpkg/extralibs64/local/include"     -O2 -Wall  -std=gnu99 -mtune=core2 -c matchpt.c -o matchpt.o
gcc -m64 -I"E:/biocbld/BBS-2˜1.10-/R/include" -DNDEBUG     -I"d:/RCompile/CRANpkg/extralibs64/local/include"     -O2 -Wall  -std=gnu99 -mtune=core2 -c rowMedians.c -o rowMedians.o
gcc -m64 -I"E:/biocbld/BBS-2˜1.10-/R/include" -DNDEBUG     -I"d:/RCompile/CRANpkg/extralibs64/local/include"     -O2 -Wall  -std=gnu99 -mtune=core2 -c sublist_extract.c -o sublist_extract.o
gcc -m64 -shared -s -static-libgcc -o Biobase.dll tmp.def Rinit.o anyMissing.o envir.o matchpt.o rowMedians.o sublist_extract.o -Ld:/RCompile/CRANpkg/extralibs64/local/lib/x64 -Ld:/RCompile/CRANpkg/extralibs64/local/lib -LE:/biocbld/BBS-2~1.10-/R/bin/x64 -lR
installing to E:/biocbld/bbs-2.10-bioc/meat/Biobase.buildbin-libdir/Biobase/libs/x64
** testing if installed package can be loaded
* MD5 sums
packaged installation of 'Biobase' as Biobase_2.16.0.zip
* DONE (Biobase)