BioMVCClass 1.24.0 Elizabeth Whalen
 | Snapshot Date: 2012-09-23 17:01:39 -0700 (Sun, 23 Sep 2012) |  | URL: https://hedgehog.fhcrc.org/bioconductor/branches/RELEASE_2_10/madman/Rpacks/BioMVCClass |  | Last Changed Rev: 64678 / Revision: 69725 |  | Last Changed Date: 2012-03-30 15:05:02 -0700 (Fri, 30 Mar 2012) |  
  | lamb2  | Linux (openSUSE 11.4) / x86_64  |  OK  |  OK  |  | 
| moscato2  | Windows Server 2008 R2 Enterprise SP1 (64-bit) / x64  |  OK  |  OK  | [ OK ] | 
| petty  | Mac OS X Leopard (10.5.8) / i386  |  OK  |  OK  |  OK  | 
install for i386
* installing *source* package 'BioMVCClass' ...
** R
** inst
** preparing package for lazy loading
** help
*** installing help indices
** building package indices
** installing vignettes
   'BioMVCClass.Rnw' 
** testing if installed package can be loaded
install for x64
* installing *source* package 'BioMVCClass' ...
** testing if installed package can be loaded
Warning in fun(libname, pkgname) :
  Rgraphviz built with Graphviz version 2.20.3.
Found installed Graphviz version 2.25.20090912.445. This _may_ cause problems.
* MD5 sums
packaged installation of 'BioMVCClass' as BioMVCClass_1.24.0.zip
* DONE (BioMVCClass)