| hapmap500ksty 1.3 Benilton Carvalho
 
 | Snapshot Date: 2008-04-10 00:02:38 -0700 (Thu, 10 Apr 2008) |  | URL: https://hedgehog.fhcrc.org/bioc-data/trunk/experiment/pkgs/hapmap500ksty |  | Last Changed Rev: 466 / Revision: 624 |  | Last Changed Date: 2007-09-17 07:20:21 -0700 (Mon, 17 Sep 2007) | 
 | lamb1 | Linux (SUSE 10.1) / x86_64 | OK | OK |  | 
| lemming | Windows Server 2003 (32-bit) / x64 | OK | OK | OK | 
| pitt | Mac OS X Tiger (10.4.11) / i386 | OK | OK | [ OK ] | 
                INSTALLATION WITH 'R CMD INSTALL hapmap500ksty_1.3.tar.gz'
* Installing to library 'hapmap500ksty.buildbin-libdir'
* Installing *source* package 'hapmap500ksty' ...
** R
** inst
** help
 >>> Building/Updating help pages for package 'hapmap500ksty'
     Formats: text html latex example 
  hapmap500ksty-package             text    html    latex   example
** building package indices ...
* DONE (hapmap500ksty)