| Back to the "Multiple platform build/check report" |
| Package 19/55 | Hostname | OS / Arch | BUILD | CHECK | BUILD BIN | ||||
| GGdata 0.0-12 VJ Carey
| lamb1 | Linux (SUSE 10.1) / x86_64 | OK | ERROR | |||||
| lemming | Windows Server 2003 (32-bit) / x64 | OK | ERROR | OK | |||||
| pitt | Mac OS X Tiger (10.4.11) / i386 | [ OK ] | ERROR | OK |
| Package: GGdata |
| Version: 0.0-12 |
| Command: /Library/Frameworks/R.framework/Resources/bin/R CMD build GGdata |
| StartedAt: 2008-04-10 00:56:38 -0700 (Thu, 10 Apr 2008) |
| EndedAt: 2008-04-10 00:58:49 -0700 (Thu, 10 Apr 2008) |
| EllapsedTime: 131.1 seconds |
| RetCode: 0 |
| Status: OK |
| PackageFile: GGdata_0.0-12.tar.gz |
| PackageFileSize: 102.5 MiB |
* checking for file 'GGdata/DESCRIPTION' ... OK * preparing 'GGdata': * checking DESCRIPTION meta-information ... OK * removing junk files * checking for LF line-endings in source and make files * checking for empty or unneeded directories * building 'GGdata_0.0-12.tar.gz'