| Back to the "Multiple platform build/check report" |
| Package 51/55 | Hostname | OS / Arch | BUILD | CHECK | BUILD BIN | ||||
| tinesath1probe 1.0.2 Tine Casneuf
| lamb1 | Linux (SUSE 10.1) / x86_64 | OK | OK | |||||
| lemming | Windows Server 2003 (32-bit) / x64 | OK | OK | OK | |||||
| pitt | Mac OS X Tiger (10.4.11) / i386 | [ OK ] | OK | OK |
| Package: tinesath1probe |
| Version: 1.0.2 |
| Command: /Library/Frameworks/R.framework/Resources/bin/R CMD build tinesath1probe |
| StartedAt: 2008-04-10 01:02:56 -0700 (Thu, 10 Apr 2008) |
| EndedAt: 2008-04-10 01:02:57 -0700 (Thu, 10 Apr 2008) |
| EllapsedTime: 1.8 seconds |
| RetCode: 0 |
| Status: OK |
| PackageFile: tinesath1probe_1.0.2.tar.gz |
| PackageFileSize: 3.037 MiB |
* checking for file 'tinesath1probe/DESCRIPTION' ... OK * preparing 'tinesath1probe': * checking DESCRIPTION meta-information ... OK * removing junk files * checking for LF line-endings in source and make files * checking for empty or unneeded directories * building 'tinesath1probe_1.0.2.tar.gz'