| Back to the "Multiple platform build/check report" |
| Package 7/55 | Hostname | OS / Arch | BUILD | CHECK | BUILD BIN | ||||
| bronchialIL13 1.0-3 Vince Carey
| lamb1 | Linux (SUSE 10.1) / x86_64 | [ OK ] | OK | |||||
| lemming | Windows Server 2003 (32-bit) / x64 | OK | OK | OK | |||||
| pitt | Mac OS X Tiger (10.4.11) / i386 | OK | OK | OK |
| Package: bronchialIL13 |
| Version: 1.0-3 |
| Command: /home/biocbuild/bbs-2.1-bioc/R/bin/R CMD build bronchialIL13 |
| StartedAt: 2008-04-10 00:50:42 -0700 (Thu, 10 Apr 2008) |
| EndedAt: 2008-04-10 00:50:50 -0700 (Thu, 10 Apr 2008) |
| EllapsedTime: 8.0 seconds |
| RetCode: 0 |
| Status: OK |
| PackageFile: bronchialIL13_1.0-3.tar.gz |
| PackageFileSize: 73.83 MiB |
* checking for file 'bronchialIL13/DESCRIPTION' ... OK * preparing 'bronchialIL13': * checking DESCRIPTION meta-information ... OK * removing junk files * checking for LF line-endings in source and make files * checking for empty or unneeded directories * building 'bronchialIL13_1.0-3.tar.gz'