| Iyer517 1.4.2 Vince Carey
 
 | Snapshot Date: 2008-04-10 00:02:38 -0700 (Thu, 10 Apr 2008) |  | URL: https://hedgehog.fhcrc.org/bioc-data/trunk/experiment/pkgs/Iyer517 |  | Last Changed Rev: 390 / Revision: 624 |  | Last Changed Date: 2007-07-10 04:15:48 -0700 (Tue, 10 Jul 2007) | 
 | lamb1 | Linux (SUSE 10.1) / x86_64 | OK | OK |  | 
| lemming | Windows Server 2003 (32-bit) / x64 | OK | OK | OK | 
| pitt | Mac OS X Tiger (10.4.11) / i386 | OK | OK | [ OK ] | 
                INSTALLATION WITH 'R CMD INSTALL Iyer517_1.4.2.tar.gz'
* Installing to library 'Iyer517.buildbin-libdir'
* Installing *source* package 'Iyer517' ...
** R
** data
** inst
** help
 >>> Building/Updating help pages for package 'Iyer517'
     Formats: text html latex example 
  Iyer517                           text    html    latex   example
  IyerAnnotated                     text    html    latex   example
  get.dna2                          text    html    latex   example
** building package indices ...
Loading required package: methods
* DONE (Iyer517)