Back to the "Multiple platform build/check report" |
Package 30/55 | Hostname | OS / Arch | BUILD | CHECK | BUILD BIN | ||||
HIVcDNAvantWout03 1.2.0 Chris Fraley
| lamb1 | Linux (SUSE 10.1) / x86_64 | OK | OK | |||||
lemming | Windows Server 2003 (32-bit) / x64 | OK | OK | OK | |||||
pitt | Mac OS X Tiger (10.4.11) / i386 | OK | OK | [ OK ] |
Package: HIVcDNAvantWout03 |
Version: 1.2.0 |
Command: /Users/biocbuild/BBS/utils/build-universal.sh HIVcDNAvantWout03_1.2.0.tar.gz /Library/Frameworks/R.framework/Resources/bin/R HIVcDNAvantWout03.buildbin-libdir |
StartedAt: 2008-04-10 01:36:33 -0700 (Thu, 10 Apr 2008) |
EndedAt: 2008-04-10 01:36:38 -0700 (Thu, 10 Apr 2008) |
EllapsedTime: 5.2 seconds |
RetCode: 0 |
Status: OK |
PackageFile: HIVcDNAvantWout03_1.2.0.tgz |
PackageFileSize: 1.778 MiB |
INSTALLATION WITH 'R CMD INSTALL HIVcDNAvantWout03_1.2.0.tar.gz' * Installing to library 'HIVcDNAvantWout03.buildbin-libdir' * Installing *source* package 'HIVcDNAvantWout03' ... ** data ** inst ** help >>> Building/Updating help pages for package 'HIVcDNAvantWout03' Formats: text html latex example hiv1raw text html latex hiv2raw text html latex ** building package indices ... Read 450000 items Read 450000 items * DONE (HIVcDNAvantWout03)