| spikeLI 1.6.0 Enrico Carlon
 
 | Snapshot Date: 2008-04-09 12:13:20 -0700 (Wed, 09 Apr 2008) |  | URL: https://hedgehog.fhcrc.org/bioconductor/branches/RELEASE_2_1/madman/Rpacks/spikeLI |  | Last Changed Rev: 27709 / Revision: 30966 |  | Last Changed Date: 2007-10-02 17:41:09 -0700 (Tue, 02 Oct 2007) | 
 | lamb1 | Linux (SUSE 10.1) / x86_64 | OK | [ OK ] |  | 
| wilson2 | Linux (openSUSE 10.3) / x86_64 | OK | OK |  | 
| wellington | Linux (openSUSE 10.3) / i686 | OK | OK |  | 
| liverpool | Windows Server 2003 R2 (32-bit) / x64 | OK | OK | OK | 
| lemming | Windows Server 2003 (32-bit) / x64 | OK | OK | OK | 
| pitt | Mac OS X Tiger (10.4.11) / i386 | OK | OK | OK | 
* checking for working latex ... OK
* using log directory '/home/biocbuild/bbs-2.1-bioc/meat/spikeLI.Rcheck'
* using R version 2.6.2 (2008-02-08)
* checking for file 'spikeLI/DESCRIPTION' ... OK
* checking extension type ... Package
* this is package 'spikeLI' version '1.6.0'
* checking package dependencies ... OK
* checking if this is a source package ... OK
* checking whether package 'spikeLI' can be installed ... OK
* checking package directory ... OK
* checking for portable file names ... OK
* checking for sufficient/correct file permissions ... OK
* checking DESCRIPTION meta-information ... OK
* checking top-level files ... OK
* checking index information ... OK
* checking package subdirectories ... OK
* checking R files for non-ASCII characters ... OK
* checking R files for syntax errors ... OK
* checking whether the package can be loaded ... OK
* checking whether the package can be loaded with stated dependencies ... OK
* checking for unstated dependencies in R code ... OK
* checking S3 generic/method consistency ... OK
* checking replacement functions ... OK
* checking foreign function calls ... OK
* checking R code for possible problems ... OK
* checking Rd files ... OK
* checking Rd cross-references ... OK
* checking for missing documentation entries ... OK
* checking for code/documentation mismatches ... OK
* checking Rd \usage sections ... OK
* checking data for non-ASCII characters ... OK
* creating spikeLI-Ex.R ... OK
* checking examples ... OK
* checking package vignettes in 'inst/doc' ... OK
* creating spikeLI-manual.tex ... OK
* checking spikeLI-manual.tex ... OK
 
* Installing *source* package 'spikeLI' ...
** R
** data
** demo
** inst
** help
 >>> Building/Updating help pages for package 'spikeLI'
     Formats: text html latex example 
  IvsDG                             text    html    latex   example
  Ivsc                              text    html    latex   example
  SPIKE_IN                          text    html    latex   example
  SPIKE_IN95                        text    html    latex   example
  SPIKE_INA                         text    html    latex   example
  SPIKE_INB                         text    html    latex   example
  SPIKE_INH                         text    html    latex   example
  collapse                          text    html    latex   example
  conc133                           text    html    latex   example
  conc95                            text    html    latex   example
  hgu                               text    html    latex   example
  spikeLI.package                   text    html    latex
** building package indices ...
* DONE (spikeLI)