| ppiStats 1.4.1 Tony Chiang
 
 | Snapshot Date: 2008-04-09 12:13:20 -0700 (Wed, 09 Apr 2008) |  | URL: https://hedgehog.fhcrc.org/bioconductor/branches/RELEASE_2_1/madman/Rpacks/ppiStats |  | Last Changed Rev: 28113 / Revision: 30966 |  | Last Changed Date: 2007-10-21 09:47:13 -0700 (Sun, 21 Oct 2007) | 
 | lamb1 | Linux (SUSE 10.1) / x86_64 | OK | ERROR |  | 
| wilson2 | Linux (openSUSE 10.3) / x86_64 | OK | ERROR |  | 
| wellington | Linux (openSUSE 10.3) / i686 | OK | ERROR |  | 
| liverpool | Windows Server 2003 R2 (32-bit) / x64 | OK | ERROR | [ OK ] | 
| lemming | Windows Server 2003 (32-bit) / x64 | OK | ERROR | OK | 
| pitt | Mac OS X Tiger (10.4.11) / i386 | OK | ERROR | OK | 
installing R.css in E:/biocbld/bbs-2.1-bioc/meat/ppiStats.buildbin-libdir
Using auto-selected zip options ''
---------- Making package ppiStats ------------
  adding build stamp to DESCRIPTION
  installing R files
  installing inst files
  installing man source files
  installing indices
  installing help
 >>> Building/Updating help pages for package 'ppiStats'
     Formats: text html latex example chm 
  assessSymmetry                    text    html    latex   example chm
  bpMatrix                          text    html    latex   example chm
  calcInOutDegStats                 text    html    latex   example chm
  degreeEstimates                   text    html    latex   example chm
  estErrProbMethodOfMoments         text    html    latex   example chm
  genBPGraph                        text    html    latex   example chm
  hgParams                          text    html    latex   example chm
  hgTests                           text    html    latex   example chm
  idProteinErrorType                text    html    latex   example chm
  idProteinType                     text    html    latex   example chm
  nullDistDoublyTestedEdges         text    html    latex   example chm
  twPERM                            text    html    latex   example chm
Microsoft HTML Help Compiler 4.74.8702
Compiling e:\biocbld\bbs-2.1-bioc\meat\R.INSTALL.4540\ppiStats\chm\ppiStats.chm
Compile time: 0 minutes, 1 second
13	Topics
32	Local links
2	Internet links
1	Graphic
Created e:\biocbld\bbs-2.1-bioc\meat\R.INSTALL.4540\ppiStats\chm\ppiStats.chm, 35,823 bytes
Compression decreased file by 15,401 bytes.
  adding MD5 sums
packaged installation of package 'ppiStats' as ppiStats_1.4.1.zip
* DONE (ppiStats)