| gcrma 2.10.0 Z. Wu
 
 | Snapshot Date: 2008-04-09 12:13:20 -0700 (Wed, 09 Apr 2008) |  | URL: https://hedgehog.fhcrc.org/bioconductor/branches/RELEASE_2_1/madman/Rpacks/gcrma |  | Last Changed Rev: 27709 / Revision: 30966 |  | Last Changed Date: 2007-10-02 17:41:09 -0700 (Tue, 02 Oct 2007) | 
 | lamb1 | Linux (SUSE 10.1) / x86_64 | OK | OK |  | 
| wilson2 | Linux (openSUSE 10.3) / x86_64 | OK | OK |  | 
| wellington | Linux (openSUSE 10.3) / i686 | OK | OK |  | 
| liverpool | Windows Server 2003 R2 (32-bit) / x64 | OK | OK | OK | 
| lemming | Windows Server 2003 (32-bit) / x64 | OK | OK | OK | 
| pitt | Mac OS X Tiger (10.4.11) / i386 | [ OK ] | OK | OK | 
* checking for file 'gcrma/DESCRIPTION' ... OK
* preparing 'gcrma':
* checking DESCRIPTION meta-information ... OK
* cleaning src
* checking whether 'INDEX' is up-to-date ... NO
* use '--force' to overwrite the existing 'INDEX'
* installing the package to re-build vignettes
* Installing *source* package 'gcrma' ...
** libs
** arch - i386
gcc -arch i386 -isysroot /Developer/SDKs/MacOSX10.4u.sdk -mmacosx-version-min=10.4 -std=gnu99 -no-cpp-precomp -I/Library/Frameworks/R.framework/Resources/include -I/Library/Frameworks/R.framework/Resources/include/i386  -msse3    -fPIC  -g -O2 -march=nocona -c baseProfile.c -o baseProfile.o
gcc -arch i386 -isysroot /Developer/SDKs/MacOSX10.4u.sdk -mmacosx-version-min=10.4 -std=gnu99 -no-cpp-precomp -I/Library/Frameworks/R.framework/Resources/include -I/Library/Frameworks/R.framework/Resources/include/i386  -msse3    -fPIC  -g -O2 -march=nocona -c computeAffinities.c -o computeAffinities.o
gcc -arch i386 -isysroot /Developer/SDKs/MacOSX10.4u.sdk -mmacosx-version-min=10.4 -std=gnu99 -no-cpp-precomp -I/Library/Frameworks/R.framework/Resources/include -I/Library/Frameworks/R.framework/Resources/include/i386  -msse3    -fPIC  -g -O2 -march=nocona -c postmean.c -o postmean.o
gcc -arch i386 -isysroot /Developer/SDKs/MacOSX10.4u.sdk -mmacosx-version-min=10.4 -std=gnu99 -dynamiclib -Wl,-headerpad_max_install_names -Wl,-macosx_version_min -Wl,10.4 -undefined dynamic_lookup -single_module -multiply_defined suppress -L/usr/local/lib -o gcrma.so baseProfile.o computeAffinities.o postmean.o   -F/Library/Frameworks/R.framework/.. -framework R 
** arch - ppc
gcc -arch ppc -isysroot /Developer/SDKs/MacOSX10.4u.sdk -mmacosx-version-min=10.4 -std=gnu99 -no-cpp-precomp -I/Library/Frameworks/R.framework/Resources/include -I/Library/Frameworks/R.framework/Resources/include/ppc  -I/usr/local/include    -fPIC  -g -O2 -c baseProfile.c -o baseProfile.o
gcc -arch ppc -isysroot /Developer/SDKs/MacOSX10.4u.sdk -mmacosx-version-min=10.4 -std=gnu99 -no-cpp-precomp -I/Library/Frameworks/R.framework/Resources/include -I/Library/Frameworks/R.framework/Resources/include/ppc  -I/usr/local/include    -fPIC  -g -O2 -c computeAffinities.c -o computeAffinities.o
gcc -arch ppc -isysroot /Developer/SDKs/MacOSX10.4u.sdk -mmacosx-version-min=10.4 -std=gnu99 -no-cpp-precomp -I/Library/Frameworks/R.framework/Resources/include -I/Library/Frameworks/R.framework/Resources/include/ppc  -I/usr/local/include    -fPIC  -g -O2 -c postmean.c -o postmean.o
gcc -arch ppc -isysroot /Developer/SDKs/MacOSX10.4u.sdk -mmacosx-version-min=10.4 -std=gnu99 -dynamiclib -Wl,-headerpad_max_install_names -Wl,-macosx_version_min -Wl,10.4 -undefined dynamic_lookup -single_module -multiply_defined suppress -L/usr/local/lib -o gcrma.so baseProfile.o computeAffinities.o postmean.o   -F/Library/Frameworks/R.framework/.. -framework R 
** R
** data
** inst
** preparing package for lazy loading
Loading required package: Biobase
Loading required package: tools
Welcome to Bioconductor
  Vignettes contain introductory material. To view, type
  'openVignette()'. To cite Bioconductor, see
  'citation("Biobase")' and for packages 'citation(pkgname)'.
Loading required package: affy
Loading required package: affyio
Loading required package: preprocessCore
Loading required package: matchprobes
Loading required package: splines
** help
 >>> Building/Updating help pages for package 'gcrma'
     Formats: text html latex example 
  affinity.spline.coefs             text    html    latex
  bg.adjust.affinities              text    html    latex
  bg.adjust.gcrma                   text    html    latex   example
  bg.parameters.ns                  text    html    latex
  compute.affinities                text    html    latex
  fast.bkg                          text    html    latex
  gcrma                             text    html    latex   example
  gcrma.engine                      text    html    latex   example
  gcrma.engine2                     text    html    latex   example
  getCDF                            text    html    latex
  justGCRMA                         text    html    latex   example
** building package indices ...
* DONE (gcrma)
* creating vignettes ... OK
* cleaning src
* removing junk files
* checking for LF line-endings in source and make files
* checking for empty or unneeded directories
* building 'gcrma_2.10.0.tar.gz'