fdrame 1.10.1 Effi Kenigsberg
 | Snapshot Date: 2008-04-09 12:13:20 -0700 (Wed, 09 Apr 2008) |  | URL: https://hedgehog.fhcrc.org/bioconductor/branches/RELEASE_2_1/madman/Rpacks/fdrame |  | Last Changed Rev: 30486 / Revision: 30966 |  | Last Changed Date: 2008-03-12 18:18:29 -0700 (Wed, 12 Mar 2008) |  
  | lamb1  | Linux (SUSE 10.1) / x86_64  |  OK  |  OK  |  | 
| wilson2  | Linux (openSUSE 10.3) / x86_64  |  OK  |  OK  |  | 
| wellington  | Linux (openSUSE 10.3) / i686  |  OK  |  OK  |  | 
| liverpool  | Windows Server 2003 R2 (32-bit) / x64  | [ OK ] |  OK  |  OK  | 
| lemming  | Windows Server 2003 (32-bit) / x64  |  OK  |  OK  |  OK  | 
| pitt  | Mac OS X Tiger (10.4.11) / i386  |  OK  |  OK  |  OK  | 
* checking for file 'fdrame/DESCRIPTION' ... OK
* preparing 'fdrame':
* checking DESCRIPTION meta-information ... OK
* cleaning src
* installing the package to re-build vignettes
installing R.css in E:/biocbld/bbs-2.1-bioc/tmpdir/Rinst532408697
---------- Making package fdrame ------------
  adding build stamp to DESCRIPTION
  making DLL ...
gcc-sjlj  -std=gnu99  -Ie:/biocbld/bbs-2.1-bioc/R/include     -O3 -Wall  -c fdr.c -o fdr.o
windres --preprocessor="gcc-sjlj -E -xc -DRC_INVOKED" -I e:/biocbld/bbs-2.1-bioc/R/include  -i fdrame_res.rc -o fdrame_res.o
gcc-sjlj  -std=gnu99  -shared -s  -o fdrame.dll fdrame.def fdr.o fdrame_res.o  -Le:/biocbld/bbs-2.1-bioc/R/bin    -lR
  ... DLL made
  installing DLL
  installing R files
  installing inst files
  installing data files
  installing man source files
  installing indices
  not zipping data
  installing help
 >>> Building/Updating help pages for package 'fdrame'
     Formats: text html latex example chm 
  design                            text    html    latex   example chm
  exp.arr                           text    html    latex   example chm
  fdr-internal                      text    html    latex           chm
  fdrgui                            text    html    latex   example chm
  fdrma                             text    html    latex   example chm
Microsoft HTML Help Compiler 4.74.8702
Compiling e:\biocbld\bbs-2.1-bioc\meat\fdrame\chm\fdrame.chm
Compile time: 0 minutes, 1 second
6	Topics
9	Local links
0	Internet links
1	Graphic
Created e:\biocbld\bbs-2.1-bioc\meat\fdrame\chm\fdrame.chm, 27,079 bytes
Compression decreased file by 487 bytes.
  preparing package fdrame for lazy loading
Loading required package: tcltk
Loading Tcl/Tk interface ... done
  adding MD5 sums
* DONE (fdrame)
* creating vignettes ... OK
* cleaning src
* removing junk files
* checking for LF line-endings in source and make files
* checking for empty or unneeded directories
WARNING: Removing directory 'fdrame/html' which should only occur in an
  installed package
* building 'fdrame_1.10.1.tar.gz'