| cellHTS 1.8.0 Ligia Bras
 
 | Snapshot Date: 2008-04-09 12:13:20 -0700 (Wed, 09 Apr 2008) |  | URL: https://hedgehog.fhcrc.org/bioconductor/branches/RELEASE_2_1/madman/Rpacks/cellHTS |  | Last Changed Rev: 27709 / Revision: 30966 |  | Last Changed Date: 2007-10-02 17:41:09 -0700 (Tue, 02 Oct 2007) | 
 | lamb1 | Linux (SUSE 10.1) / x86_64 | OK | OK |  | 
| wilson2 | Linux (openSUSE 10.3) / x86_64 | OK | OK |  | 
| wellington | Linux (openSUSE 10.3) / i686 | OK | OK |  | 
| liverpool | Windows Server 2003 R2 (32-bit) / x64 | OK | OK | [ OK ] | 
| lemming | Windows Server 2003 (32-bit) / x64 | OK | OK | OK | 
| pitt | Mac OS X Tiger (10.4.11) / i386 | OK | OK | OK | 
installing R.css in E:/biocbld/bbs-2.1-bioc/meat/cellHTS.buildbin-libdir
Using auto-selected zip options 'cellHTS-ZIPDATA=zip cellHTS-HELP=ziponly'
---------- Making package cellHTS ------------
  adding build stamp to DESCRIPTION
  installing NAMESPACE file and metadata
  installing R files
  installing inst files
  installing data files
  installing man source files
  installing indices
  zipping data
  installing help
 >>> Building/Updating help pages for package 'cellHTS'
     Formats: text html latex example chm 
  Bscore                            text    html    latex   example chm
  ROC                               text    html    latex   example chm
  annotate                          text    html    latex   example chm
  bdgpbiomart                       text    html    latex   example chm
  configure                         text    html    latex   example chm
  data-KcViab                       text    html    latex   example chm
  data-KcViabSmall                  text    html    latex   example chm
  getEnVisionRawData                text    html    latex   example chm
  getLibraryPlate                   text    html    latex   example chm
  getMatrix                         text    html    latex   example chm
  imageScreen                       text    html    latex   example chm
  normalizeChannels                 text    html    latex   example chm
  normalizePlates                   text    html    latex   example chm
  oneRowPerId                       text    html    latex   example chm
  plotPlateLibrary                  text    html    latex   example chm
  plotSpatialEffects                text    html    latex   example chm
  print.cellHTS                     text    html    latex   example chm
  readPlateData                     text    html    latex   example chm
  screenMatch                       text    html    latex   example chm
  summarizeChannels                 text    html    latex   example chm
  summarizeReplicates               text    html    latex   example chm
  write.tabdel                      text    html    latex   example chm
  writeReport                       text    html    latex   example chm
  writeTab                          text    html    latex   example chm
  zipping help files
Microsoft HTML Help Compiler 4.74.8702
Compiling e:\biocbld\bbs-2.1-bioc\meat\R.INSTALL.6044\cellHTS\chm\cellHTS.chm
Compile time: 0 minutes, 1 second
25	Topics
101	Local links
0	Internet links
1	Graphic
Created e:\biocbld\bbs-2.1-bioc\meat\R.INSTALL.6044\cellHTS\chm\cellHTS.chm, 62,534 bytes
Compression decreased file by 65,554 bytes.
  preparing package cellHTS for lazy loading
Loading required package: prada
Loading required package: Biobase
Loading required package: tools
Welcome to Bioconductor
  Vignettes contain introductory material. To view, type
  'openVignette()'. To cite Bioconductor, see
  'citation("Biobase")' and for packages 'citation(pkgname)'.
Loading required package: RColorBrewer
Loading required package: grid
Loading required package: rrcov
Loading required package: robustbase
Attaching package: 'rrcov'
	The following object(s) are masked from package:stats :
	 biplot,
	 predict,
	 screeplot 
KernSmooth 2.22 installed
Copyright M. P. Wand 1997
Loading required package: genefilter
Loading required package: survival
Loading required package: splines
Attaching package: 'survival'
	The following object(s) are masked from package:robustbase :
	 heart 
  adding MD5 sums
packaged installation of package 'cellHTS' as cellHTS_1.8.0.zip
* DONE (cellHTS)