bridge 1.10.0 Raphael Gottardo
 | Snapshot Date: 2008-04-09 12:13:20 -0700 (Wed, 09 Apr 2008) |  | URL: https://hedgehog.fhcrc.org/bioconductor/branches/RELEASE_2_1/madman/Rpacks/bridge |  | Last Changed Rev: 28558 / Revision: 30966 |  | Last Changed Date: 2007-11-07 23:08:50 -0800 (Wed, 07 Nov 2007) |  
  | lamb1  | Linux (SUSE 10.1) / x86_64  |  OK  |  OK  |  | 
| wilson2  | Linux (openSUSE 10.3) / x86_64  |  OK  |  OK  |  | 
| wellington  | Linux (openSUSE 10.3) / i686  |  OK  |  OK  |  | 
| liverpool  | Windows Server 2003 R2 (32-bit) / x64  |  OK  |  OK  |  OK  | 
| lemming  | Windows Server 2003 (32-bit) / x64  |  OK  |  OK  |  OK  | 
| pitt  | Mac OS X Tiger (10.4.11) / i386  | [ OK ] |  OK  |  OK  | 
* checking for file 'bridge/DESCRIPTION' ... OK
* preparing 'bridge':
* checking DESCRIPTION meta-information ... OK
* cleaning src
* installing the package to re-build vignettes
* Installing *source* package 'bridge' ...
** libs
** arch - i386
gcc -arch i386 -isysroot /Developer/SDKs/MacOSX10.4u.sdk -mmacosx-version-min=10.4 -std=gnu99 -no-cpp-precomp -I/Library/Frameworks/R.framework/Resources/include -I/Library/Frameworks/R.framework/Resources/include/i386  -msse3    -fPIC  -g -O2 -march=nocona -c bridge2.affy.c -o bridge2.affy.o
bridge2.affy.c: In function 'up_date_w2':
bridge2.affy.c:300: warning: implicit declaration of function 'dirichlet'
gcc -arch i386 -isysroot /Developer/SDKs/MacOSX10.4u.sdk -mmacosx-version-min=10.4 -std=gnu99 -no-cpp-precomp -I/Library/Frameworks/R.framework/Resources/include -I/Library/Frameworks/R.framework/Resources/include/i386  -msse3    -fPIC  -g -O2 -march=nocona -c bridge2.c -o bridge2.o
gcc -arch i386 -isysroot /Developer/SDKs/MacOSX10.4u.sdk -mmacosx-version-min=10.4 -std=gnu99 -no-cpp-precomp -I/Library/Frameworks/R.framework/Resources/include -I/Library/Frameworks/R.framework/Resources/include/i386  -msse3    -fPIC  -g -O2 -march=nocona -c bridge2_util.c -o bridge2_util.o
bridge2_util.c: In function 'qr_solve':
bridge2_util.c:570: warning: implicit declaration of function 'dqrdc2_'
bridge2_util.c:585: warning: implicit declaration of function 'dqrcf_'
gcc -arch i386 -isysroot /Developer/SDKs/MacOSX10.4u.sdk -mmacosx-version-min=10.4 -std=gnu99 -no-cpp-precomp -I/Library/Frameworks/R.framework/Resources/include -I/Library/Frameworks/R.framework/Resources/include/i386  -msse3    -fPIC  -g -O2 -march=nocona -c bridge3.c -o bridge3.o
gcc -arch i386 -isysroot /Developer/SDKs/MacOSX10.4u.sdk -mmacosx-version-min=10.4 -std=gnu99 -dynamiclib -Wl,-headerpad_max_install_names -Wl,-macosx_version_min -Wl,10.4 -undefined dynamic_lookup -single_module -multiply_defined suppress -L/usr/local/lib -o bridge.so bridge2.affy.o bridge2.o bridge2_util.o bridge3.o   -F/Library/Frameworks/R.framework/.. -framework R 
** arch - ppc
gcc -arch ppc -isysroot /Developer/SDKs/MacOSX10.4u.sdk -mmacosx-version-min=10.4 -std=gnu99 -no-cpp-precomp -I/Library/Frameworks/R.framework/Resources/include -I/Library/Frameworks/R.framework/Resources/include/ppc  -I/usr/local/include    -fPIC  -g -O2 -c bridge2.affy.c -o bridge2.affy.o
bridge2.affy.c: In function 'up_date_w2':
bridge2.affy.c:300: warning: implicit declaration of function 'dirichlet'
gcc -arch ppc -isysroot /Developer/SDKs/MacOSX10.4u.sdk -mmacosx-version-min=10.4 -std=gnu99 -no-cpp-precomp -I/Library/Frameworks/R.framework/Resources/include -I/Library/Frameworks/R.framework/Resources/include/ppc  -I/usr/local/include    -fPIC  -g -O2 -c bridge2.c -o bridge2.o
gcc -arch ppc -isysroot /Developer/SDKs/MacOSX10.4u.sdk -mmacosx-version-min=10.4 -std=gnu99 -no-cpp-precomp -I/Library/Frameworks/R.framework/Resources/include -I/Library/Frameworks/R.framework/Resources/include/ppc  -I/usr/local/include    -fPIC  -g -O2 -c bridge2_util.c -o bridge2_util.o
bridge2_util.c: In function 'qr_solve':
bridge2_util.c:570: warning: implicit declaration of function 'dqrdc2_'
bridge2_util.c:585: warning: implicit declaration of function 'dqrcf_'
gcc -arch ppc -isysroot /Developer/SDKs/MacOSX10.4u.sdk -mmacosx-version-min=10.4 -std=gnu99 -no-cpp-precomp -I/Library/Frameworks/R.framework/Resources/include -I/Library/Frameworks/R.framework/Resources/include/ppc  -I/usr/local/include    -fPIC  -g -O2 -c bridge3.c -o bridge3.o
gcc -arch ppc -isysroot /Developer/SDKs/MacOSX10.4u.sdk -mmacosx-version-min=10.4 -std=gnu99 -dynamiclib -Wl,-headerpad_max_install_names -Wl,-macosx_version_min -Wl,10.4 -undefined dynamic_lookup -single_module -multiply_defined suppress -L/usr/local/lib -o bridge.so bridge2.affy.o bridge2.o bridge2_util.o bridge3.o   -F/Library/Frameworks/R.framework/.. -framework R 
** R
** data
** inst
** help
 >>> Building/Updating help pages for package 'bridge'
     Formats: text html latex example 
  bridge.2samples                   text    html    latex   example
  bridge.3samples                   text    html    latex   example
  hiv                               text    html    latex
** building package indices ...
* DONE (bridge)
* creating vignettes ... OK
* cleaning src
* removing junk files
* checking for LF line-endings in source and make files
* checking for empty or unneeded directories
* building 'bridge_1.10.0.tar.gz'