| RMAPPER 1.8.2 VJ Carey
 
 | Snapshot Date: 2008-04-09 12:13:20 -0700 (Wed, 09 Apr 2008) |  | URL: https://hedgehog.fhcrc.org/bioconductor/branches/RELEASE_2_1/madman/Rpacks/RMAPPER |  | Last Changed Rev: 28380 / Revision: 30966 |  | Last Changed Date: 2007-11-01 15:43:58 -0700 (Thu, 01 Nov 2007) | 
 | lamb1 | Linux (SUSE 10.1) / x86_64 | OK | OK |  | 
| wilson2 | Linux (openSUSE 10.3) / x86_64 | OK | OK |  | 
| wellington | Linux (openSUSE 10.3) / i686 | OK | OK |  | 
| liverpool | Windows Server 2003 R2 (32-bit) / x64 | [ OK ] | OK | OK | 
| lemming | Windows Server 2003 (32-bit) / x64 | OK | OK | OK | 
| pitt | Mac OS X Tiger (10.4.11) / i386 | OK | OK | OK | 
* checking for file 'RMAPPER/DESCRIPTION' ... OK
* preparing 'RMAPPER':
* checking DESCRIPTION meta-information ... OK
* removing junk files
* checking for LF line-endings in source and make files
* checking for empty or unneeded directories
WARNING: directory 'RMAPPER/inst/doc' is empty
* building 'RMAPPER_1.8.2.tar.gz'