| MantelCorr 1.8.0 Brian Steinmeyer
 
 | Snapshot Date: 2008-04-09 12:13:20 -0700 (Wed, 09 Apr 2008) |  | URL: https://hedgehog.fhcrc.org/bioconductor/branches/RELEASE_2_1/madman/Rpacks/MantelCorr |  | Last Changed Rev: 27709 / Revision: 30966 |  | Last Changed Date: 2007-10-02 17:41:09 -0700 (Tue, 02 Oct 2007) | 
 | lamb1 | Linux (SUSE 10.1) / x86_64 | OK | OK |  | 
| wilson2 | Linux (openSUSE 10.3) / x86_64 | OK | OK |  | 
| wellington | Linux (openSUSE 10.3) / i686 | OK | OK |  | 
| liverpool | Windows Server 2003 R2 (32-bit) / x64 | OK | OK | [ OK ] | 
| lemming | Windows Server 2003 (32-bit) / x64 | OK | OK | OK | 
| pitt | Mac OS X Tiger (10.4.11) / i386 | OK | OK | OK | 
installing R.css in E:/biocbld/bbs-2.1-bioc/meat/MantelCorr.buildbin-libdir
Using auto-selected zip options 'MantelCorr-ZIPDATA=zip'
---------- Making package MantelCorr ------------
  adding build stamp to DESCRIPTION
  installing R files
  installing inst files
  installing data files
  installing man source files
  installing indices
  zipping data
  installing help
 >>> Building/Updating help pages for package 'MantelCorr'
     Formats: text html latex example chm 
  ClusterGeneList                   text    html    latex   example chm
  ClusterList                       text    html    latex   example chm
  DistMatrices                      text    html    latex   example chm
  GetClusters                       text    html    latex   example chm
  GolubTrain                        text    html    latex   example chm
  MantelCorrs                       text    html    latex   example chm
  PermutationTest                   text    html    latex   example chm
Microsoft HTML Help Compiler 4.74.8702
Compiling e:\biocbld\bbs-2.1-bioc\meat\R.INSTALL.5672\MantelCorr\chm\MantelCorr.chm
Compile time: 0 minutes, 0 seconds
8	Topics
14	Local links
0	Internet links
1	Graphic
Created e:\biocbld\bbs-2.1-bioc\meat\R.INSTALL.5672\MantelCorr\chm\MantelCorr.chm, 23,527 bytes
Compression decreased file by 3,441 bytes.
  adding MD5 sums
packaged installation of package 'MantelCorr' as MantelCorr_1.8.0.zip
* DONE (MantelCorr)