| LMGene 1.8.0 John Tillinghast
 
 | Snapshot Date: 2008-04-09 12:13:20 -0700 (Wed, 09 Apr 2008) |  | URL: https://hedgehog.fhcrc.org/bioconductor/branches/RELEASE_2_1/madman/Rpacks/LMGene |  | Last Changed Rev: 27709 / Revision: 30966 |  | Last Changed Date: 2007-10-02 17:41:09 -0700 (Tue, 02 Oct 2007) | 
 | lamb1 | Linux (SUSE 10.1) / x86_64 | OK | OK |  | 
| wilson2 | Linux (openSUSE 10.3) / x86_64 | OK | OK |  | 
| wellington | Linux (openSUSE 10.3) / i686 | OK | OK |  | 
| liverpool | Windows Server 2003 R2 (32-bit) / x64 | OK | OK | OK | 
| lemming | Windows Server 2003 (32-bit) / x64 | OK | OK | OK | 
| pitt | Mac OS X Tiger (10.4.11) / i386 | OK | OK | [ OK ] | 
                INSTALLATION WITH 'R CMD INSTALL LMGene_1.8.0.tar.gz'
* Installing to library 'LMGene.buildbin-libdir'
* Installing *source* package 'LMGene' ...
** R
** data
** inst
** help
 >>> Building/Updating help pages for package 'LMGene'
     Formats: text html latex example 
  GetLMObj                          text    html    latex   example
  LMGene                            text    html    latex   example
  genediff                          text    html    latex   example
  glog                              text    html    latex   example
  jggrad2                           text    html    latex   example
  jglog                             text    html    latex   example
  lnorm                             text    html    latex   example
  lnormeS                           text    html    latex   example
  mlm2lm                            text    html    latex   example
  msa                               text    html    latex   example
  msecalc                           text    html    latex   example
  msecalcmult                       text    html    latex   example
  neweS                             text    html    latex   example
  norm                              text    html    latex   example
  psmeans                           text    html    latex   example
  pvadjust                          text    html    latex   example
  rowaov                            text    html    latex   example
  rowlist                           text    html    latex   example
  sample.eS                         text    html    latex   example
  sample.ind                        text    html    latex   example
  sample.mat                        text    html    latex   example
  tranest                           text    html    latex   example
  tranest2                          text    html    latex   example
  tranestmult                       text    html    latex   example
  transeS                           text    html    latex   example
  vlist                             text    html    latex   example
** building package indices ...
* DONE (LMGene)