| GeneMeta 1.10.0 Biocore Team c/o BioC user list
 
 | Snapshot Date: 2008-04-09 12:13:20 -0700 (Wed, 09 Apr 2008) |  | URL: https://hedgehog.fhcrc.org/bioconductor/branches/RELEASE_2_1/madman/Rpacks/GeneMeta |  | Last Changed Rev: 27709 / Revision: 30966 |  | Last Changed Date: 2007-10-02 17:41:09 -0700 (Tue, 02 Oct 2007) | 
 | lamb1 | Linux (SUSE 10.1) / x86_64 | OK | OK |  | 
| wilson2 | Linux (openSUSE 10.3) / x86_64 | OK | OK |  | 
| wellington | Linux (openSUSE 10.3) / i686 | OK | OK |  | 
| liverpool | Windows Server 2003 R2 (32-bit) / x64 | [ OK ] | OK | OK | 
| lemming | Windows Server 2003 (32-bit) / x64 | OK | OK | OK | 
| pitt | Mac OS X Tiger (10.4.11) / i386 | OK | OK | OK | 
* checking for file 'GeneMeta/DESCRIPTION' ... OK
* preparing 'GeneMeta':
* checking DESCRIPTION meta-information ... OK
* installing the package to re-build vignettes
installing R.css in E:/biocbld/bbs-2.1-bioc/tmpdir/Rinst288839099
---------- Making package GeneMeta ------------
  adding build stamp to DESCRIPTION
  installing NAMESPACE file and metadata
  installing R files
  installing inst files
  installing data files
  preparing package GeneMeta for lazy loading
Loading required package: Biobase
Loading required package: tools
Welcome to Bioconductor
  Vignettes contain introductory material. To view, type
  'openVignette()'. To cite Bioconductor, see
  'citation("Biobase")' and for packages 'citation(pkgname)'.
Loading required package: genefilter
Loading required package: survival
Loading required package: splines
  installing man source files
  installing indices
  not zipping data
  installing help
 >>> Building/Updating help pages for package 'GeneMeta'
     Formats: text html latex example chm 
  CountPlot                         text    html    latex   example chm
  Nevins                            text    html    latex   example chm
  dstar                             text    html    latex   example chm
  f.Q                               text    html    latex   example chm
  tau                               text    html    latex   example chm
  zscore                            text    html    latex   example chm
Microsoft HTML Help Compiler 4.74.8702
Compiling e:\biocbld\bbs-2.1-bioc\meat\GeneMeta\chm\GeneMeta.chm
Compile time: 0 minutes, 0 seconds
7	Topics
27	Local links
1	Internet link
1	Graphic
Created e:\biocbld\bbs-2.1-bioc\meat\GeneMeta\chm\GeneMeta.chm, 25,307 bytes
Compression decreased file by 2,902 bytes.
  adding MD5 sums
* DONE (GeneMeta)
* creating vignettes ... OK
* removing junk files
* checking for LF line-endings in source and make files
* checking for empty or unneeded directories
* building 'GeneMeta_1.10.0.tar.gz'