| AffyExpress 1.2.0 Xuejun Arthur Li
 
 | Snapshot Date: 2008-04-09 12:13:20 -0700 (Wed, 09 Apr 2008) |  | URL: https://hedgehog.fhcrc.org/bioconductor/branches/RELEASE_2_1/madman/Rpacks/AffyExpress |  | Last Changed Rev: 27709 / Revision: 30966 |  | Last Changed Date: 2007-10-02 17:41:09 -0700 (Tue, 02 Oct 2007) | 
 | lamb1 | Linux (SUSE 10.1) / x86_64 | OK | OK |  | 
| wilson2 | Linux (openSUSE 10.3) / x86_64 | OK | OK |  | 
| wellington | Linux (openSUSE 10.3) / i686 | OK | OK |  | 
| liverpool | Windows Server 2003 R2 (32-bit) / x64 | [ OK ] | OK | OK | 
| lemming | Windows Server 2003 (32-bit) / x64 | OK | OK | OK | 
| pitt | Mac OS X Tiger (10.4.11) / i386 | OK | OK | OK | 
* checking for file 'AffyExpress/DESCRIPTION' ... OK
* preparing 'AffyExpress':
* checking DESCRIPTION meta-information ... OK
* installing the package to re-build vignettes
installing R.css in E:/biocbld/bbs-2.1-bioc/tmpdir/Rinst30077343
---------- Making package AffyExpress ------------
  adding build stamp to DESCRIPTION
  installing NAMESPACE file and metadata
  installing R files
  installing inst files
  installing data files
  installing man source files
  installing indices
  not zipping data
  installing help
 >>> Building/Updating help pages for package 'AffyExpress'
     Formats: text html latex example chm 
  AffyInteraction                   text    html    latex   example chm
  AffyQA                            text    html    latex   example chm
  AffyRegress                       text    html    latex   example chm
  Filter                            text    html    latex   example chm
  interaction.result2html           text    html    latex   example chm
  make.contrast                     text    html    latex   example chm
  make.design                       text    html    latex   example chm
  post.interaction                  text    html    latex   example chm
  pre.process                       text    html    latex   example chm
  regress                           text    html    latex   example chm
  result2html                       text    html    latex   example chm
  select.sig.gene                   text    html    latex   example chm
  testData                          text    html    latex           chm
Microsoft HTML Help Compiler 4.74.8702
Compiling e:\biocbld\bbs-2.1-bioc\meat\AffyExpress\chm\AffyExpress.chm
Compile time: 0 minutes, 1 second
14	Topics
28	Local links
0	Internet links
1	Graphic
Created e:\biocbld\bbs-2.1-bioc\meat\AffyExpress\chm\AffyExpress.chm, 32,548 bytes
Compression decreased file by 17,318 bytes.
  adding MD5 sums
* DONE (AffyExpress)
* creating vignettes ... OK
* removing junk files
* checking for LF line-endings in source and make files
* checking for empty or unneeded directories
* building 'AffyExpress_1.2.0.tar.gz'