| webbioc 1.10.0 Colin A. Smith
 
 | Snapshot Date: 2008-04-09 12:13:20 -0700 (Wed, 09 Apr 2008) |  | URL: https://hedgehog.fhcrc.org/bioconductor/branches/RELEASE_2_1/madman/Rpacks/webbioc |  | Last Changed Rev: 27709 / Revision: 30966 |  | Last Changed Date: 2007-10-02 17:41:09 -0700 (Tue, 02 Oct 2007) | 
 | lamb1 | Linux (SUSE 10.1) / x86_64 | OK | OK |  | 
| wilson2 | Linux (openSUSE 10.3) / x86_64 | OK | OK |  | 
| wellington | Linux (openSUSE 10.3) / i686 | OK | OK |  | 
| liverpool | Windows Server 2003 R2 (32-bit) / x64 | [ OK ] | OK | OK | 
| lemming | Windows Server 2003 (32-bit) / x64 | OK | OK | OK | 
| pitt | Mac OS X Tiger (10.4.11) / i386 | OK | OK | OK | 
* checking for file 'webbioc/DESCRIPTION' ... OK
* preparing 'webbioc':
* checking DESCRIPTION meta-information ... OK
* installing the package to re-build vignettes
installing R.css in E:/biocbld/bbs-2.1-bioc/tmpdir/Rinst607677508
---------- Making package webbioc ------------
  adding build stamp to DESCRIPTION
  installing R files
  installing inst files
  preparing package webbioc for lazy loading
Loading required package: Biobase
Loading required package: tools
Welcome to Bioconductor
  Vignettes contain introductory material. To view, type
  'openVignette()'. To cite Bioconductor, see
  'citation("Biobase")' and for packages 'citation(pkgname)'.
Loading required package: affy
Loading required package: affyio
Loading required package: preprocessCore
Loading required package: multtest
Loading required package: survival
Loading required package: splines
Loading required package: annaffy
Loading required package: GO
Loading required package: KEGG
Loading required package: vsn
Loading required package: limma
Loading required package: gcrma
Loading required package: matchprobes
Loading required package: qvalue
Loading required package: tcltk
Loading Tcl/Tk interface ... done
  installing man source files
  installing indices
  installing help
Note: unmatched right brace in 'mt.wrapper' on or after line 84
Note: unmatched right brace in 'mt.wrapper.Rd' on or after line 84
 >>> Building/Updating help pages for package 'webbioc'
     Formats: text html latex example chm 
  installReps                       text    html    latex           chm
  mt.wrapper                        text    html    latex           chm
Microsoft HTML Help Compiler 4.74.8702
Compiling e:\biocbld\bbs-2.1-bioc\meat\webbioc\chm\webbioc.chm
Compile time: 0 minutes, 1 second
3	Topics
4	Local links
0	Internet links
1	Graphic
Created e:\biocbld\bbs-2.1-bioc\meat\webbioc\chm\webbioc.chm, 20,156 bytes
Compression increased file by 6,534 bytes.
  adding MD5 sums
* DONE (webbioc)
* creating vignettes ... OK
* removing junk files
* checking for LF line-endings in source and make files
* checking for empty or unneeded directories
* building 'webbioc_1.10.0.tar.gz'