| topGO 1.4.0 Adrian Alexa
 
 | Snapshot Date: 2008-04-09 12:13:20 -0700 (Wed, 09 Apr 2008) |  | URL: https://hedgehog.fhcrc.org/bioconductor/branches/RELEASE_2_1/madman/Rpacks/topGO |  | Last Changed Rev: 27709 / Revision: 30966 |  | Last Changed Date: 2007-10-02 17:41:09 -0700 (Tue, 02 Oct 2007) | 
 | lamb1 | Linux (SUSE 10.1) / x86_64 | OK | OK |  | 
| wilson2 | Linux (openSUSE 10.3) / x86_64 | OK | OK |  | 
| wellington | Linux (openSUSE 10.3) / i686 | OK | OK |  | 
| liverpool | Windows Server 2003 R2 (32-bit) / x64 | OK | OK | OK | 
| lemming | Windows Server 2003 (32-bit) / x64 | OK | [ OK ] | OK | 
| pitt | Mac OS X Tiger (10.4.11) / i386 | OK | OK | OK | 
* checking for working latex ... OK
* using log directory 'D:/biocbld/bbs-2.1-bioc/meat/topGO.Rcheck'
* using R version 2.6.2 (2008-02-08)
* checking for file 'topGO/DESCRIPTION' ... OK
* checking extension type ... Package
* this is package 'topGO' version '1.4.0'
* checking package name space information ... OK
* checking package dependencies ... OK
* checking if this is a source package ... OK
* checking whether package 'topGO' can be installed ... OK
* checking package directory ... OK
* checking for portable file names ... OK
* checking DESCRIPTION meta-information ... OK
* checking top-level files ... OK
* checking index information ... OK
* checking package subdirectories ... OK
* checking R files for non-ASCII characters ... OK
* checking R files for syntax errors ... OK
* checking whether the package can be loaded ... OK
* checking whether the package can be loaded with stated dependencies ... OK
* checking whether the name space can be loaded with stated dependencies ... OK
* checking for unstated dependencies in R code ... OK
* checking S3 generic/method consistency ... OK
* checking replacement functions ... OK
* checking foreign function calls ... OK
* checking R code for possible problems ... NOTE
printDOT: no visible binding for global variable '.DOT.FILE.NAME'
showSigOfNodes: no visible binding for global variable 'goDAG.r2l'
* checking Rd files ... OK
* checking Rd cross-references ... OK
* checking for missing documentation entries ... OK
* checking for code/documentation mismatches ... OK
* checking Rd \usage sections ... OK
* checking data for non-ASCII characters ... OK
* creating topGO-Ex.R ... OK
* checking examples ... OK
* checking package vignettes in 'inst/doc' ... OK
* creating topGO-manual.tex ... OK
* checking topGO-manual.tex ... OK
 
installing R.css in D:/biocbld/bbs-2.1-bioc/meat/topGO.Rcheck
---------- Making package topGO ------------
  adding build stamp to DESCRIPTION
  installing NAMESPACE file and metadata
  installing R files
  installing inst files
  installing data files
  installing man source files
  installing indices
  not zipping data
  installing help
 >>> Building/Updating help pages for package 'topGO'
     Formats: text html latex example chm 
  GOFisherTest                      text    html    latex           chm
  GOKSTest                          text    html    latex           chm
  GOdata                            text    html    latex   example chm
  annFUN.hgu                        text    html    latex   example chm
  buildGOgraph.topology             text    html    latex           chm
  buildLevels                       text    html    latex   example chm
  classicCount-class                text    html    latex   example chm
  classicScore-class                text    html    latex   example chm
  elimCount-class                   text    html    latex   example chm
  elimScore-class                   text    html    latex   example chm
  getPvalues                        text    html    latex   example chm
  getSigGroups                      text    html    latex   example chm
  groupGOTerms                      text    html    latex   example chm
  groupStats-class                  text    html    latex   example chm
  inducedGraph                      text    html    latex   example chm
  mapGenes2GOgraph                  text    html    latex   example chm
  printGenes-methods                text    html    latex           chm
  printGraph-methods                text    html    latex   example chm
  reverseArch                       text    html    latex   example chm
  topGO-package                     text    html    latex           chm
  topGOdata-class                   text    html    latex   example chm
  topGOresult-class                 text    html    latex           chm
  weightCount-class                 text    html    latex   example chm
  weightScore-class                 text    html    latex           chm
HHC5012: Error: Cannot create a temporary file in your TEMP path.
HHC4016: Warning: Cannot open "gs\gs8.51\bin;c:\Program Files\Java\jdk1.5.0_06\bin;c:\program files\imagemagick-6.3.2-q16;c:\Program Files\MySQL\MySQL Server 5.0\bin;c:\Program Files\ggobi".
Microsoft HTML Help Compiler 4.74.8702
Compiling d:\biocbld\bbs-2.1-bioc\meat\topGO.Rcheck\00_pkg_src\topGO\chm\topGO.chm
HHC4016: Warning: Cannot open "gs\gs8.51\bin;c:\Program Files\Java\jdk1.5.0_06\bin;c:\program files\imagemagick-6.3.2-q16;c:\Program Files\MySQL\MySQL Server 5.0\bin;c:\Program Files\ggobi".
The following files were not compiled:
  preparing package topGO for lazy loading
Loading required package: graph
Loading required package: Biobase
Loading required package: tools
Welcome to Bioconductor
  Vignettes contain introductory material. To view, type
  'openVignette()'. To cite Bioconductor, see
  'citation("Biobase")' and for packages 'citation(pkgname)'.
Loading required package: GO
Loading required package: AnnotationDbi
Loading required package: DBI
Loading required package: RSQLite
Loading required package: SparseM
Creating a new generic function for "print" in "topGO"
  adding MD5 sums
* DONE (topGO)