| stepNorm 1.10.0 Yuanyuan Xiao
 
 | Snapshot Date: 2008-04-09 12:13:20 -0700 (Wed, 09 Apr 2008) |  | URL: https://hedgehog.fhcrc.org/bioconductor/branches/RELEASE_2_1/madman/Rpacks/stepNorm |  | Last Changed Rev: 27709 / Revision: 30966 |  | Last Changed Date: 2007-10-02 17:41:09 -0700 (Tue, 02 Oct 2007) | 
 | lamb1 | Linux (SUSE 10.1) / x86_64 | OK | OK |  | 
| wilson2 | Linux (openSUSE 10.3) / x86_64 | OK | OK |  | 
| wellington | Linux (openSUSE 10.3) / i686 | OK | OK |  | 
| liverpool | Windows Server 2003 R2 (32-bit) / x64 | OK | OK | OK | 
| lemming | Windows Server 2003 (32-bit) / x64 | OK | OK | [ OK ] | 
| pitt | Mac OS X Tiger (10.4.11) / i386 | OK | OK | OK | 
installing R.css in D:/biocbld/bbs-2.1-bioc/meat/stepNorm.buildbin-libdir
Using auto-selected zip options ''
---------- Making package stepNorm ------------
  adding build stamp to DESCRIPTION
  installing R files
  installing inst files
  installing man source files
  installing indices
  installing help
Note: unmatched right brace in 'marrayFitClass' on or after line 63
Note: unmatched right brace in 'marrayFitClass.Rd' on or after line 63
Note: unmatched right brace in 'withinNorm' on or after line 12
Note: unmatched right brace in 'withinNorm.Rd' on or after line 12
 >>> Building/Updating help pages for package 'stepNorm'
     Formats: text html latex example chm 
  calcAIC                           text    html    latex   example chm
  calcBIC                           text    html    latex   example chm
  fit2DWithin                       text    html    latex   example chm
  fitWithin                         text    html    latex   example chm
  maCompPlate2                      text    html    latex   example chm
  makeStepList                      text    html    latex   example chm
  marrayFitClass                    text    html    latex   example chm
  seqWithinNorm                     text    html    latex   example chm
  stepNorm-internal                 text    html    latex           chm
  stepWithinNorm                    text    html    latex   example chm
  withinNorm                        text    html    latex   example chm
HHC5012: Error: Cannot create a temporary file in your TEMP path.
HHC4016: Warning: Cannot open "ymetrix\GDAC NetAffx;c:\gs\gs8.51\bin;c:\Program Files\Java\jdk1.5.0_06\bin;c:\program files\imagemagick-6.3.2-q16;c:\Program Files\MySQL\MySQL Server 5.0\bin;c:\Program Files\ggobi".
Microsoft HTML Help Compiler 4.74.8702
Compiling d:\biocbld\bbs-2.1-bioc\meat\R.INSTALL.5512\stepNorm\chm\stepNorm.chm
HHC4016: Warning: Cannot open "ymetrix\GDAC NetAffx;c:\gs\gs8.51\bin;c:\Program Files\Java\jdk1.5.0_06\bin;c:\program files\imagemagick-6.3.2-q16;c:\Program Files\MySQL\MySQL Server 5.0\bin;c:\Program Files\ggobi".
The following files were not compiled:
  adding MD5 sums
packaged installation of package 'stepNorm' as stepNorm_1.10.0.zip
* DONE (stepNorm)