| splicegear 1.10.0 Laurent
 
 | Snapshot Date: 2008-04-09 12:13:20 -0700 (Wed, 09 Apr 2008) |  | URL: https://hedgehog.fhcrc.org/bioconductor/branches/RELEASE_2_1/madman/Rpacks/splicegear |  | Last Changed Rev: 27709 / Revision: 30966 |  | Last Changed Date: 2007-10-02 17:41:09 -0700 (Tue, 02 Oct 2007) | 
 | lamb1 | Linux (SUSE 10.1) / x86_64 | OK | OK |  | 
| wilson2 | Linux (openSUSE 10.3) / x86_64 | OK | OK |  | 
| wellington | Linux (openSUSE 10.3) / i686 | OK | OK |  | 
| liverpool | Windows Server 2003 R2 (32-bit) / x64 | OK | OK | OK | 
| lemming | Windows Server 2003 (32-bit) / x64 | OK | OK | [ OK ] | 
| pitt | Mac OS X Tiger (10.4.11) / i386 | OK | OK | OK | 
installing R.css in D:/biocbld/bbs-2.1-bioc/meat/splicegear.buildbin-libdir
Using auto-selected zip options 'splicegear-ZIPDATA=zip'
---------- Making package splicegear ------------
  adding build stamp to DESCRIPTION
  installing R files
  installing inst files
  installing data files
  preparing package splicegear for lazy loading
Loading required package: grid
Loading required package: Biobase
Loading required package: tools
Welcome to Bioconductor
  Vignettes contain introductory material. To view, type
  'openVignette()'. To cite Bioconductor, see
  'citation("Biobase")' and for packages 'citation(pkgname)'.
Loading required package: XML
Loading required package: annotate
Loading required package: AnnotationDbi
Loading required package: DBI
Loading required package: RSQLite
Loading required package: xtable
  installing man source files
  installing indices
  zipping data
  installing help
 >>> Building/Updating help pages for package 'splicegear'
     Formats: text html latex example chm 
  Probes-class                      text    html    latex   example chm
  SpliceExprSet-class               text    html    latex   example chm
  SpliceSites-class                 text    html    latex   example chm
  SpliceSitesGenomic-class          text    html    latex   example chm
  as.data.frame.SpliceExprSet       text    html    latex   example chm
  barplot.SpliceSites               text    html    latex   example chm
  buildSpliceSites                  text    html    latex   example chm
  getRelSignStrength                text    html    latex   example chm
  grid.helpers                      text    html    latex           chm
  grid.plot.SpliceSites             text    html    latex   example chm
  isProbeOnSpliceSite               text    html    latex   example chm
  matchprobes2Probes                text    html    latex           chm
  plot.SpliceExprSet                text    html    latex   example chm
  plot.SpliceSites                  text    html    latex   example chm
  plot.SpliceSitesGenomic           text    html    latex   example chm
  sort.SpliceExprSet                text    html    latex   example chm
  spliceset                         text    html    latex   example chm
  split.SpliceSites                 text    html    latex   example chm
HHC5012: Error: Cannot create a temporary file in your TEMP path.
HHC4016: Warning: Cannot open "rogram Files\Windows Resource Kits\Tools\;c:\Program Files\Affymetrix\GDAC NetAffx;c:\gs\gs8.51\bin;c:\Program Files\Java\jdk1.5.0_06\bin;c:\program files\imagemagick-6.3.2-q16;c:\Program Files\MySQL\MySQL Server 5.0\bin;c:\Program Files\ggobi".
Microsoft HTML Help Compiler 4.74.8702
Compiling d:\biocbld\bbs-2.1-bioc\meat\R.INSTALL.4892\splicegear\chm\splicegear.chm
HHC4016: Warning: Cannot open "rogram Files\Windows Resource Kits\Tools\;c:\Program Files\Affymetrix\GDAC NetAffx;c:\gs\gs8.51\bin;c:\Program Files\Java\jdk1.5.0_06\bin;c:\program files\imagemagick-6.3.2-q16;c:\Program Files\MySQL\MySQL Server 5.0\bin;c:\Program Files\ggobi".
The following files were not compiled:
  adding MD5 sums
packaged installation of package 'splicegear' as splicegear_1.10.0.zip
* DONE (splicegear)