quantsmooth 1.4.0 Jan Oosting
 | Snapshot Date: 2008-04-09 12:13:20 -0700 (Wed, 09 Apr 2008) |  | URL: https://hedgehog.fhcrc.org/bioconductor/branches/RELEASE_2_1/madman/Rpacks/quantsmooth |  | Last Changed Rev: 27709 / Revision: 30966 |  | Last Changed Date: 2007-10-02 17:41:09 -0700 (Tue, 02 Oct 2007) |  
  | lamb1  | Linux (SUSE 10.1) / x86_64  |  OK  |  OK  |  | 
| wilson2  | Linux (openSUSE 10.3) / x86_64  |  OK  |  OK  |  | 
| wellington  | Linux (openSUSE 10.3) / i686  |  OK  |  OK  |  | 
| liverpool  | Windows Server 2003 R2 (32-bit) / x64  |  OK  |  OK  |  OK  | 
| lemming  | Windows Server 2003 (32-bit) / x64  |  OK  |  OK  |  OK  | 
| pitt  | Mac OS X Tiger (10.4.11) / i386  |  OK  |  OK  | [ OK ] | 
                INSTALLATION WITH 'R CMD INSTALL quantsmooth_1.4.0.tar.gz'
* Installing to library 'quantsmooth.buildbin-libdir'
* Installing *source* package 'quantsmooth' ...
** R
** data
** inst
** help
 >>> Building/Updating help pages for package 'quantsmooth'
     Formats: text html latex example 
  Chromosome14                      text    html    latex
  drawSimpleChrom                   text    html    latex   example
  getChangedIdx                     text    html    latex
  getChangedRegions                 text    html    latex   example
  getLambdaMin                      text    html    latex   example
  lengthChromosome                  text    html    latex   example
  numericCHR                        text    html    latex   example
  paintCytobands                    text    html    latex   example
  plotChromosome                    text    html    latex
  plotSmoothed                      text    html    latex   example
  prepareGenomePlot                 text    html    latex
  quantsmooth                       text    html    latex   example
  quantsmooth.cv                    text    html    latex   example
  quantsmooth.seg                   text    html    latex   example
  scaleto                           text    html    latex
** building package indices ...
* DONE (quantsmooth)