| prada 1.14.0 Florian Hahne
 
 | Snapshot Date: 2008-04-09 12:13:20 -0700 (Wed, 09 Apr 2008) |  | URL: https://hedgehog.fhcrc.org/bioconductor/branches/RELEASE_2_1/madman/Rpacks/prada |  | Last Changed Rev: 27709 / Revision: 30966 |  | Last Changed Date: 2007-10-02 17:41:09 -0700 (Tue, 02 Oct 2007) | 
 | lamb1 | Linux (SUSE 10.1) / x86_64 | OK | OK |  | 
| wilson2 | Linux (openSUSE 10.3) / x86_64 | OK | OK |  | 
| wellington | Linux (openSUSE 10.3) / i686 | OK | OK |  | 
| liverpool | Windows Server 2003 R2 (32-bit) / x64 | OK | OK | [ OK ] | 
| lemming | Windows Server 2003 (32-bit) / x64 | OK | OK | OK | 
| pitt | Mac OS X Tiger (10.4.11) / i386 | OK | OK | OK | 
installing R.css in E:/biocbld/bbs-2.1-bioc/meat/prada.buildbin-libdir
Using auto-selected zip options 'prada-ZIPDATA=zip prada-HELP=ziponly'
---------- Making package prada ------------
  adding build stamp to DESCRIPTION
  installing NAMESPACE file and metadata
  making DLL ...
making inPolygon.d from inPolygon.c
gcc-sjlj  -std=gnu99  -IE:/biocbld/bbs-2.1-bioc/R/include     -O3 -Wall  -c inPolygon.c -o inPolygon.o
windres --preprocessor="gcc-sjlj -E -xc -DRC_INVOKED" -I E:/biocbld/bbs-2.1-bioc/R/include  -i prada_res.rc -o prada_res.o
gcc-sjlj  -std=gnu99  -shared -s  -o prada.dll prada.def inPolygon.o prada_res.o  -LE:/biocbld/bbs-2.1-bioc/R/bin    -lR
  ... DLL made
  installing DLL
  installing R files
  installing inst files
  installing data files
  preparing package prada for lazy loading
Loading required package: Biobase
Loading required package: tools
Welcome to Bioconductor
  Vignettes contain introductory material. To view, type
  'openVignette()'. To cite Bioconductor, see
  'citation("Biobase")' and for packages 'citation(pkgname)'.
Loading required package: RColorBrewer
Loading required package: grid
Loading required package: rrcov
Loading required package: robustbase
Attaching package: 'rrcov'
	The following object(s) are masked from package:stats :
	 biplot,
	 predict,
	 screeplot 
KernSmooth 2.22 installed
Copyright M. P. Wand 1997
  installing man source files
  installing indices
KernSmooth 2.22 installed
Copyright M. P. Wand 1997
Loading required package: methods
  zipping data
  installing help
 >>> Building/Updating help pages for package 'prada'
     Formats: text html latex example chm 
  analysePlate                      text    html    latex   example chm
  as.all                            text    html    latex   example chm
  barploterrbar                     text    html    latex   example chm
  combineFrames                     text    html    latex   example chm
  csApply                           text    html    latex   example chm
  cytoFrame-class                   text    html    latex   example chm
  cytoSet-class                     text    html    latex   example chm
  data-cytoFrame                    text    html    latex   example chm
  data-cytoSet                      text    html    latex   example chm
  devDims                           text    html    latex   example chm
  devRes                            text    html    latex   example chm
  fitNorm2                          text    html    latex   example chm
  gate-class                        text    html    latex   example chm
  gateSet-class                     text    html    latex   example chm
  getPradaPar                       text    html    latex   example chm
  new-internal                      text    html    latex           chm
  plotNorm2                         text    html    latex   example chm
  plotPlate                         text    html    latex   example chm
  readCytoSet                       text    html    latex   example chm
  readFCS                           text    html    latex   example chm
  readFCSaux                        text    html    latex   example chm
  removeCensored                    text    html    latex   example chm
  tcltkProgress                     text    html    latex   example chm
  threePanelPlot                    text    html    latex   example chm
  thresholds                        text    html    latex   example chm
  touchFCS                          text    html    latex           chm
  vpLocation                        text    html    latex   example chm
  zipping help files
Microsoft HTML Help Compiler 4.74.8702
Compiling e:\biocbld\bbs-2.1-bioc\meat\R.INSTALL.3156\prada\chm\prada.chm
Compile time: 0 minutes, 1 second
28	Topics
180	Local links
11	Internet links
1	Graphic
Created e:\biocbld\bbs-2.1-bioc\meat\R.INSTALL.3156\prada\chm\prada.chm, 58,528 bytes
Compression decreased file by 73,979 bytes.
  adding MD5 sums
packaged installation of package 'prada' as prada_1.14.0.zip
* DONE (prada)