| pdmclass 1.10.0 James W. MacDonald
 
 | Snapshot Date: 2008-04-09 12:13:20 -0700 (Wed, 09 Apr 2008) |  | URL: https://hedgehog.fhcrc.org/bioconductor/branches/RELEASE_2_1/madman/Rpacks/pdmclass |  | Last Changed Rev: 27709 / Revision: 30966 |  | Last Changed Date: 2007-10-02 17:41:09 -0700 (Tue, 02 Oct 2007) | 
 | lamb1 | Linux (SUSE 10.1) / x86_64 | OK | OK |  | 
| wilson2 | Linux (openSUSE 10.3) / x86_64 | OK | OK |  | 
| wellington | Linux (openSUSE 10.3) / i686 | OK | OK |  | 
| liverpool | Windows Server 2003 R2 (32-bit) / x64 | OK | OK | OK | 
| lemming | Windows Server 2003 (32-bit) / x64 | OK | OK | OK | 
| pitt | Mac OS X Tiger (10.4.11) / i386 | [ OK ] | OK | OK | 
* checking for file 'pdmclass/DESCRIPTION' ... OK
* preparing 'pdmclass':
* checking DESCRIPTION meta-information ... OK
* installing the package to re-build vignettes
* Installing *source* package 'pdmclass' ...
** R
** inst
** help
 >>> Building/Updating help pages for package 'pdmclass'
     Formats: text html latex example 
  my.svd                            text    html    latex
  pdmClass                          text    html    latex   example
  pdmClass.cv                       text    html    latex   example
  pdmGenes                          text    html    latex   example
  pls1c                             text    html    latex
  predict.pls                       text    html    latex   example
  svdpls1c                          text    html    latex
  svdr                              text    html    latex
** building package indices ...
* DONE (pdmclass)
* creating vignettes ... OK
* removing junk files
* checking for LF line-endings in source and make files
* checking for empty or unneeded directories
* building 'pdmclass_1.10.0.tar.gz'