| pdInfoBuilder 1.2.0 Vince Carey
 
 | Snapshot Date: 2008-04-09 12:13:20 -0700 (Wed, 09 Apr 2008) |  | URL: https://hedgehog.fhcrc.org/bioconductor/branches/RELEASE_2_1/madman/Rpacks/pdInfoBuilder |  | Last Changed Rev: 27709 / Revision: 30966 |  | Last Changed Date: 2007-10-02 17:41:09 -0700 (Tue, 02 Oct 2007) | 
 | lamb1 | Linux (SUSE 10.1) / x86_64 | OK | OK |  | 
| wilson2 | Linux (openSUSE 10.3) / x86_64 | OK | OK |  | 
| wellington | Linux (openSUSE 10.3) / i686 | [ OK ] | OK |  | 
| liverpool | Windows Server 2003 R2 (32-bit) / x64 | OK | OK | OK | 
| lemming | Windows Server 2003 (32-bit) / x64 | OK | OK | OK | 
| pitt | Mac OS X Tiger (10.4.11) / i386 | OK | OK | OK | 
* checking for file 'pdInfoBuilder/DESCRIPTION' ... OK
* preparing 'pdInfoBuilder':
* checking DESCRIPTION meta-information ... OK
* cleaning src
* installing the package to re-build vignettes
* Installing *source* package 'pdInfoBuilder' ...
** libs
gcc -std=gnu99 -I/home/biocbuild/bbs-2.1-bioc/R/include -I/home/biocbuild/bbs-2.1-bioc/R/include  -I/usr/local/include    -fpic  -g -O2 -Wall -c pdInfoBuilder.c -o pdInfoBuilder.o
gcc -std=gnu99 -shared -L/usr/local/lib -o pdInfoBuilder.so pdInfoBuilder.o   -L/home/biocbuild/bbs-2.1-bioc/R/lib -lR
** R
** inst
** preparing package for lazy loading
Loading required package: Biobase
Loading required package: tools
Welcome to Bioconductor
  Vignettes contain introductory material. To view, type
  'openVignette()'. To cite Bioconductor, see
  'citation("Biobase")' and for packages 'citation(pkgname)'.
Loading required package: RSQLite
Loading required package: DBI
Loading required package: affxparser
Loading required package: oligo
Loading required package: splines
Loading required package: preprocessCore
Loading required package: AnnotationDbi
Loading required package: oligoClasses
This is the oligo package
Attaching package: 'oligo'
	The following object(s) are masked from package:oligoClasses :
	 calls,
	 calls<-,
	 callsConfidence,
	 callsConfidence<-,
	 cnConfidence,
	 cnConfidence<-,
	 copyNumber,
	 copyNumber<- 
** help
 >>> Building/Updating help pages for package 'pdInfoBuilder'
     Formats: text html latex example 
  AffySNPCNVPDInfoPkgSeed-class     text    html    latex   example
  AffySNPPDInfoPkgSeed-class        text    html    latex   example
  PDInfoPkgSeed-class               text    html    latex   example
  PkgSeed-class                     text    html    latex   example
  chipName                          text    html    latex
  makePdInfoPackage                 text    html    latex   example
** building package indices ...
* DONE (pdInfoBuilder)
* creating vignettes ... OK
* cleaning src
* removing junk files
* checking for LF line-endings in source and make files
* checking for empty or unneeded directories
* building 'pdInfoBuilder_1.2.0.tar.gz'