| panp 1.8.0 Peter Warren
 
 | Snapshot Date: 2008-04-09 12:13:20 -0700 (Wed, 09 Apr 2008) |  | URL: https://hedgehog.fhcrc.org/bioconductor/branches/RELEASE_2_1/madman/Rpacks/panp |  | Last Changed Rev: 27709 / Revision: 30966 |  | Last Changed Date: 2007-10-02 17:41:09 -0700 (Tue, 02 Oct 2007) | 
 | lamb1 | Linux (SUSE 10.1) / x86_64 | OK | OK |  | 
| wilson2 | Linux (openSUSE 10.3) / x86_64 | OK | OK |  | 
| wellington | Linux (openSUSE 10.3) / i686 | OK | OK |  | 
| liverpool | Windows Server 2003 R2 (32-bit) / x64 | OK | OK | OK | 
| lemming | Windows Server 2003 (32-bit) / x64 | OK | OK | OK | 
| pitt | Mac OS X Tiger (10.4.11) / i386 | OK | OK | [ OK ] | 
                INSTALLATION WITH 'R CMD INSTALL panp_1.8.0.tar.gz'
* Installing to library 'panp.buildbin-libdir'
* Installing *source* package 'panp' ...
** R
** data
** inst
** help
 >>> Building/Updating help pages for package 'panp'
     Formats: text html latex example 
  NSMPnames.hgu133a                 text    html    latex
  NSMPnames.hgu133plus2             text    html    latex
  gcrma.ExpressionSet               text    html    latex
  pa.calls                          text    html    latex   example
** building package indices ...
* DONE (panp)