maanova 1.8.1 Hyuna Yang
 | Snapshot Date: 2008-04-09 12:13:20 -0700 (Wed, 09 Apr 2008) |  | URL: https://hedgehog.fhcrc.org/bioconductor/branches/RELEASE_2_1/madman/Rpacks/maanova |  | Last Changed Rev: 30408 / Revision: 30966 |  | Last Changed Date: 2008-03-07 16:33:21 -0800 (Fri, 07 Mar 2008) |  
  | lamb1  | Linux (SUSE 10.1) / x86_64  |  OK  |  OK  |  | 
| wilson2  | Linux (openSUSE 10.3) / x86_64  |  OK  |  OK  |  | 
| wellington  | Linux (openSUSE 10.3) / i686  |  OK  |  OK  |  | 
| liverpool  | Windows Server 2003 R2 (32-bit) / x64  |  OK  |  OK  |  OK  | 
| lemming  | Windows Server 2003 (32-bit) / x64  |  OK  |  OK  | [ OK ] | 
| pitt  | Mac OS X Tiger (10.4.11) / i386  |  OK  |  OK  |  OK  | 
installing R.css in D:/biocbld/bbs-2.1-bioc/meat/maanova.buildbin-libdir
Using auto-selected zip options 'maanova-ZIPDATA=zip maanova-HELP=ziponly'
---------- Making package maanova ------------
  adding build stamp to DESCRIPTION
  making DLL ...
making makeratio.d from makeratio.c
making masvd.d from masvd.c
making shift.d from shift.c
making util.d from util.c
gcc-sjlj  -std=gnu99  -ID:/biocbld/bbs-2.1-bioc/R/include     -O3 -Wall  -c makeratio.c -o makeratio.o
gcc-sjlj  -std=gnu99  -ID:/biocbld/bbs-2.1-bioc/R/include     -O3 -Wall  -c masvd.c -o masvd.o
masvd.c:114:2: warning: "/*" within comment
masvd.c:154:1: warning: "/*" within comment
masvd.c:161:5: warning: "/*" within comment
masvd.c:165:2: warning: "/*" within comment
masvd.c:189:2: warning: "/*" within comment
gcc-sjlj  -std=gnu99  -ID:/biocbld/bbs-2.1-bioc/R/include     -O3 -Wall  -c shift.c -o shift.o
shift.c: In function 'shift':
shift.c:27: warning: unused variable 'k'
gcc-sjlj  -std=gnu99  -ID:/biocbld/bbs-2.1-bioc/R/include     -O3 -Wall  -c util.c -o util.o
windres --preprocessor="gcc-sjlj -E -xc -DRC_INVOKED" -I D:/biocbld/bbs-2.1-bioc/R/include  -i maanova_res.rc -o maanova_res.o
gcc-sjlj  -std=gnu99  -shared -s  -o maanova.dll maanova.def makeratio.o masvd.o shift.o util.o maanova_res.o  -LD:/biocbld/bbs-2.1-bioc/R/bin -LD:/biocbld/bbs-2.1-bioc/R/bin -lRlapack   -lR
  ... DLL made
  installing DLL
  installing R files
  installing demos
  installing inst files
  installing data files
  installing man source files
  installing indices
  zipping data
  installing help
 >>> Building/Updating help pages for package 'maanova'
     Formats: text html latex example chm 
  PairContrast                      text    html    latex   example chm
  Rmaanova.version                  text    html    latex   example chm
  abf1                              text    html    latex   example chm
  adjPval                           text    html    latex   example chm
  arrayview                         text    html    latex   example chm
  consensus                         text    html    latex   example chm
  dyeswapfilter                     text    html    latex   example chm
  fill.missing                      text    html    latex   example chm
  fitmaanova                        text    html    latex   example chm
  fom                               text    html    latex   example chm
  geneprofile                       text    html    latex   example chm
  gridcheck                         text    html    latex   example chm
  kidney                            text    html    latex   example chm
  maanova-internal                  text    html    latex   example chm
  macluster                         text    html    latex   example chm
  matest                            text    html    latex   example chm
  read.madata                       text    html    latex   example chm
  resiplot                          text    html    latex   example chm
  riplot                            text    html    latex   example chm
  subset.madata                     text    html    latex   example chm
  summarytable                      text    html    latex   example chm
  transform.madata                  text    html    latex   example chm
  varplot                           text    html    latex   example chm
  volcano                           text    html    latex   example chm
  write.madata                      text    html    latex   example chm
  zipping help files
HHC5012: Error: Cannot create a temporary file in your TEMP path.
HHC4016: Warning: Cannot open "Kits\Tools\;c:\Program Files\Affymetrix\GDAC NetAffx;c:\gs\gs8.51\bin;c:\Program Files\Java\jdk1.5.0_06\bin;c:\program files\imagemagick-6.3.2-q16;c:\Program Files\MySQL\MySQL Server 5.0\bin;c:\Program Files\ggobi".
Microsoft HTML Help Compiler 4.74.8702
Compiling d:\biocbld\bbs-2.1-bioc\meat\R.INSTALL.4648\maanova\chm\maanova.chm
HHC4016: Warning: Cannot open "Kits\Tools\;c:\Program Files\Affymetrix\GDAC NetAffx;c:\gs\gs8.51\bin;c:\Program Files\Java\jdk1.5.0_06\bin;c:\program files\imagemagick-6.3.2-q16;c:\Program Files\MySQL\MySQL Server 5.0\bin;c:\Program Files\ggobi".
The following files were not compiled:
  preparing package maanova for lazy loading
  adding MD5 sums
packaged installation of package 'maanova' as maanova_1.8.1.zip
* DONE (maanova)