| lumi 1.4.0 Pan Du
 
 | Snapshot Date: 2008-04-09 12:13:20 -0700 (Wed, 09 Apr 2008) |  | URL: https://hedgehog.fhcrc.org/bioconductor/branches/RELEASE_2_1/madman/Rpacks/lumi |  | Last Changed Rev: 27709 / Revision: 30966 |  | Last Changed Date: 2007-10-02 17:41:09 -0700 (Tue, 02 Oct 2007) | 
 | lamb1 | Linux (SUSE 10.1) / x86_64 | OK | OK |  | 
| wilson2 | Linux (openSUSE 10.3) / x86_64 | OK | OK |  | 
| wellington | Linux (openSUSE 10.3) / i686 | OK | OK |  | 
| liverpool | Windows Server 2003 R2 (32-bit) / x64 | OK | OK | OK | 
| lemming | Windows Server 2003 (32-bit) / x64 | OK | [ OK ] | OK | 
| pitt | Mac OS X Tiger (10.4.11) / i386 | OK | OK | OK | 
* checking for working latex ... OK
* using log directory 'D:/biocbld/bbs-2.1-bioc/meat/lumi.Rcheck'
* using R version 2.6.2 (2008-02-08)
* checking for file 'lumi/DESCRIPTION' ... OK
* checking extension type ... Package
* this is package 'lumi' version '1.4.0'
* checking package dependencies ... OK
* checking if this is a source package ... OK
* checking whether package 'lumi' can be installed ... OK
* checking package directory ... OK
* checking for portable file names ... OK
* checking DESCRIPTION meta-information ... OK
* checking top-level files ... OK
* checking index information ... OK
* checking package subdirectories ... OK
* checking R files for non-ASCII characters ... OK
* checking R files for syntax errors ... OK
* checking whether the package can be loaded ... OK
* checking whether the package can be loaded with stated dependencies ... OK
* checking for unstated dependencies in R code ... OK
* checking S3 generic/method consistency ... OK
* checking replacement functions ... OK
* checking foreign function calls ... OK
* checking R code for possible problems ... OK
* checking Rd files ... OK
* checking Rd cross-references ... OK
* checking for missing documentation entries ... OK
* checking for code/documentation mismatches ... OK
* checking Rd \usage sections ... OK
* checking data for non-ASCII characters ... OK
* creating lumi-Ex.R ... OK
* checking examples ... OK
* checking package vignettes in 'inst/doc' ... OK
* creating lumi-manual.tex ... OK
* checking lumi-manual.tex ... OK
 
installing R.css in D:/biocbld/bbs-2.1-bioc/meat/lumi.Rcheck
---------- Making package lumi ------------
  adding build stamp to DESCRIPTION
  installing R files
  installing inst files
  installing data files
  installing man source files
  installing indices
  not zipping data
  installing help
 >>> Building/Updating help pages for package 'lumi'
     Formats: text html latex example chm 
  LumiBatch-class                   text    html    latex   example chm
  MAplot-methods                    text    html    latex   example chm
  addNuId2lumi                      text    html    latex   example chm
  bgAdjust                          text    html    latex   example chm
  boxplot-methods                   text    html    latex   example chm
  density-methods                   text    html    latex   example chm
  detectOutlier                     text    html    latex   example chm
  detectionCall                     text    html    latex   example chm
  estimateLumiCV                    text    html    latex   example chm
  example.lumi                      text    html    latex   example chm
  hist-methods                      text    html    latex   example chm
  id2seq                            text    html    latex   example chm
  inverseVST                        text    html    latex   example chm
  is.nuID                           text    html    latex   example chm
  lumi.package                      text    html    latex   example chm
  lumiB                             text    html    latex   example chm
  lumiExpresso                      text    html    latex   example chm
  lumiN                             text    html    latex   example chm
  lumiQ                             text    html    latex   example chm
  lumiR                             text    html    latex   example chm
  lumiR.batch                       text    html    latex   example chm
  lumiT                             text    html    latex   example chm
  monoSmu                           text    html    latex   example chm
  monoSpline                        text    html    latex   example chm
  nuID2probeID                      text    html    latex   example chm
  nuID2targetID                     text    html    latex   example chm
  pairs-methods                     text    html    latex   example chm
  plot-methods                      text    html    latex   example chm
  plotSampleRelation                text    html    latex   example chm
  plotVST                           text    html    latex   example chm
  probeID2nuID                      text    html    latex   example chm
  rsn                               text    html    latex   example chm
  seq2id                            text    html    latex   example chm
  targetID2nuID                     text    html    latex   example chm
  vst                               text    html    latex   example chm
HHC5012: Error: Cannot create a temporary file in your TEMP path.
HHC4016: Warning: Cannot open "in;c:\Program Files\Java\jdk1.5.0_06\bin;c:\program files\imagemagick-6.3.2-q16;c:\Program Files\MySQL\MySQL Server 5.0\bin;c:\Program Files\ggobi".
Microsoft HTML Help Compiler 4.74.8702
Compiling d:\biocbld\bbs-2.1-bioc\meat\lumi.Rcheck\00_pkg_src\lumi\chm\lumi.chm
HHC4016: Warning: Cannot open "in;c:\Program Files\Java\jdk1.5.0_06\bin;c:\program files\imagemagick-6.3.2-q16;c:\Program Files\MySQL\MySQL Server 5.0\bin;c:\Program Files\ggobi".
The following files were not compiled:
  preparing package lumi for lazy loading
Loading required package: Biobase
Loading required package: tools
Welcome to Bioconductor
  Vignettes contain introductory material. To view, type
  'openVignette()'. To cite Bioconductor, see
  'citation("Biobase")' and for packages 'citation(pkgname)'.
Loading required package: affy
Loading required package: affyio
Loading required package: preprocessCore
Loading required package: mgcv
Loading required package: annotate
Loading required package: AnnotationDbi
Loading required package: DBI
Loading required package: RSQLite
Loading required package: xtable
Creating a new generic function for "pairs" in "lumi"
Creating a new generic function for "plot" in "lumi"
  adding MD5 sums
* DONE (lumi)