| gpls 1.10.0 Biocore Team c/o BioC user list
 
 | Snapshot Date: 2008-04-09 12:13:20 -0700 (Wed, 09 Apr 2008) |  | URL: https://hedgehog.fhcrc.org/bioconductor/branches/RELEASE_2_1/madman/Rpacks/gpls |  | Last Changed Rev: 27709 / Revision: 30966 |  | Last Changed Date: 2007-10-02 17:41:09 -0700 (Tue, 02 Oct 2007) | 
 | lamb1 | Linux (SUSE 10.1) / x86_64 | OK | OK |  | 
| wilson2 | Linux (openSUSE 10.3) / x86_64 | OK | OK |  | 
| wellington | Linux (openSUSE 10.3) / i686 | OK | OK |  | 
| liverpool | Windows Server 2003 R2 (32-bit) / x64 | OK | [ OK ] | OK | 
| lemming | Windows Server 2003 (32-bit) / x64 | OK | OK | OK | 
| pitt | Mac OS X Tiger (10.4.11) / i386 | OK | OK | OK | 
* checking for working latex ... OK
* using log directory 'E:/biocbld/bbs-2.1-bioc/meat/gpls.Rcheck'
* using R version 2.6.2 (2008-02-08)
* checking for file 'gpls/DESCRIPTION' ... OK
* this is package 'gpls' version '1.10.0'
* checking package name space information ... OK
* checking package dependencies ... OK
* checking if this is a source package ... OK
* checking whether package 'gpls' can be installed ... OK
* checking package directory ... OK
* checking for portable file names ... OK
* checking DESCRIPTION meta-information ... OK
* checking top-level files ... OK
* checking index information ... OK
* checking package subdirectories ... OK
* checking R files for non-ASCII characters ... OK
* checking R files for syntax errors ... OK
* checking whether the package can be loaded ... OK
* checking whether the package can be loaded with stated dependencies ... OK
* checking whether the name space can be loaded with stated dependencies ... OK
* checking for unstated dependencies in R code ... OK
* checking S3 generic/method consistency ... OK
* checking replacement functions ... OK
* checking foreign function calls ... OK
* checking R code for possible problems ... OK
* checking Rd files ... OK
* checking Rd cross-references ... OK
* checking for missing documentation entries ... OK
* checking for code/documentation mismatches ... OK
* checking Rd \usage sections ... NOTE
S3 methods shown with full name in documentation object 'predict.gpls':
  predict.gpls
The \usage entries for S3 methods should use the \method markup and not
their full name.
See the chapter 'Writing R documentation files' in manual 'Writing R
Extensions'.
* creating gpls-Ex.R ... OK
* checking examples ... OK
* checking package vignettes in 'inst/doc' ... OK
* creating gpls-manual.tex ... OK
* checking gpls-manual.tex ... OK
 
installing R.css in E:/biocbld/bbs-2.1-bioc/meat/gpls.Rcheck
---------- Making package gpls ------------
  adding build stamp to DESCRIPTION
  installing NAMESPACE file and metadata
  installing R files
  installing inst files
  installing man source files
  installing indices
  installing help
 >>> Building/Updating help pages for package 'gpls'
     Formats: text html latex example chm 
  glpls1a                           text    html    latex   example chm
  glpls1a.cv.error                  text    html    latex   example chm
  glpls1a.logit.all                 text    html    latex   example chm
  glpls1a.mlogit                    text    html    latex   example chm
  glpls1a.mlogit.cv.error           text    html    latex   example chm
  glpls1a.train.test.error          text    html    latex   example chm
  gpls                              text    html    latex   example chm
  predict.gpls                      text    html    latex   example chm
Microsoft HTML Help Compiler 4.74.8702
Compiling e:\biocbld\bbs-2.1-bioc\meat\gpls.Rcheck\00_pkg_src\gpls\chm\gpls.chm
Compile time: 0 minutes, 0 seconds
9	Topics
51	Local links
0	Internet links
1	Graphic
Created e:\biocbld\bbs-2.1-bioc\meat\gpls.Rcheck\00_pkg_src\gpls\chm\gpls.chm, 25,555 bytes
Compression decreased file by 13,062 bytes.
  adding MD5 sums
* DONE (gpls)