gaggle 1.6.0 Dan Tenenbaum
 | Snapshot Date: 2008-04-09 12:13:20 -0700 (Wed, 09 Apr 2008) |  | URL: https://hedgehog.fhcrc.org/bioconductor/branches/RELEASE_2_1/madman/Rpacks/gaggle |  | Last Changed Rev: 30468 / Revision: 30966 |  | Last Changed Date: 2008-03-11 13:49:25 -0700 (Tue, 11 Mar 2008) |  
  | lamb1  | Linux (SUSE 10.1) / x86_64  |  OK  |  OK  |  | 
| wilson2  | Linux (openSUSE 10.3) / x86_64  |  OK  |  OK  |  | 
| wellington  | Linux (openSUSE 10.3) / i686  |  OK  |  OK  |  | 
| liverpool  | Windows Server 2003 R2 (32-bit) / x64  | [ OK ] |  OK  |  OK  | 
| lemming  | Windows Server 2003 (32-bit) / x64  |  OK  |  OK  |  OK  | 
| pitt  | Mac OS X Tiger (10.4.11) / i386  |  OK  |  OK  |  OK  | 
* checking for file 'gaggle/DESCRIPTION' ... OK
* preparing 'gaggle':
* checking DESCRIPTION meta-information ... OK
* installing the package to re-build vignettes
installing R.css in E:/biocbld/bbs-2.1-bioc/tmpdir/Rinst231664431
---------- Making package gaggle ------------
  adding build stamp to DESCRIPTION
  installing NAMESPACE file and metadata
  installing R files
  installing inst files
  installing man source files
  installing indices
  installing help
 >>> Building/Updating help pages for package 'gaggle'
     Formats: text html latex example chm 
  broadcast                         text    html    latex           chm
  gaggleInit                        text    html    latex           chm
  geese                             text    html    latex           chm
  getCluster                        text    html    latex           chm
  getHashMap                        text    html    latex           chm
  getMatrix                         text    html    latex           chm
  getNameList                       text    html    latex           chm
  getNetwork                        text    html    latex           chm
  getSpecies                        text    html    latex           chm
  getTargetGoose                    text    html    latex           chm
  hideGoose                         text    html    latex           chm
  setSpecies                        text    html    latex           chm
  setTargetGoose                    text    html    latex           chm
  showGoose                         text    html    latex           chm
  testGagglePackage                 text    html    latex           chm
Microsoft HTML Help Compiler 4.74.8702
Compiling e:\biocbld\bbs-2.1-bioc\meat\gaggle\chm\gaggle.chm
Compile time: 0 minutes, 1 second
16	Topics
72	Local links
0	Internet links
1	Graphic
Created e:\biocbld\bbs-2.1-bioc\meat\gaggle\chm\gaggle.chm, 24,947 bytes
Compression decreased file by 9,661 bytes.
  adding MD5 sums
* DONE (gaggle)
* creating vignettes ... OK
* removing junk files
* checking for LF line-endings in source and make files
* checking for empty or unneeded directories
* building 'gaggle_1.6.0.tar.gz'