| fdrame 1.10.1 Effi Kenigsberg
 
 | Snapshot Date: 2008-04-09 12:13:20 -0700 (Wed, 09 Apr 2008) |  | URL: https://hedgehog.fhcrc.org/bioconductor/branches/RELEASE_2_1/madman/Rpacks/fdrame |  | Last Changed Rev: 30486 / Revision: 30966 |  | Last Changed Date: 2008-03-12 18:18:29 -0700 (Wed, 12 Mar 2008) | 
 | lamb1 | Linux (SUSE 10.1) / x86_64 | OK | OK |  | 
| wilson2 | Linux (openSUSE 10.3) / x86_64 | OK | OK |  | 
| wellington | Linux (openSUSE 10.3) / i686 | OK | OK |  | 
| liverpool | Windows Server 2003 R2 (32-bit) / x64 | OK | OK | OK | 
| lemming | Windows Server 2003 (32-bit) / x64 | OK | OK | OK | 
| pitt | Mac OS X Tiger (10.4.11) / i386 | OK | OK | [ OK ] | 
                INSTALLATION WITH 'R CMD INSTALL fdrame_1.10.1.tar.gz'
* Installing to library 'fdrame.buildbin-libdir'
* Installing *source* package 'fdrame' ...
** libs
** arch - i386
gcc -arch i386 -isysroot /Developer/SDKs/MacOSX10.4u.sdk -mmacosx-version-min=10.4 -std=gnu99 -no-cpp-precomp -I/Library/Frameworks/R.framework/Resources/include -I/Library/Frameworks/R.framework/Resources/include/i386  -msse3    -fPIC  -g -O2 -march=nocona -c fdr.c -o fdr.o
gcc -arch i386 -isysroot /Developer/SDKs/MacOSX10.4u.sdk -mmacosx-version-min=10.4 -std=gnu99 -dynamiclib -Wl,-headerpad_max_install_names -Wl,-macosx_version_min -Wl,10.4 -undefined dynamic_lookup -single_module -multiply_defined suppress -L/usr/local/lib -o fdrame.so fdr.o   -F/Library/Frameworks/R.framework/.. -framework R 
** arch - ppc
gcc -arch ppc -isysroot /Developer/SDKs/MacOSX10.4u.sdk -mmacosx-version-min=10.4 -std=gnu99 -no-cpp-precomp -I/Library/Frameworks/R.framework/Resources/include -I/Library/Frameworks/R.framework/Resources/include/ppc  -I/usr/local/include    -fPIC  -g -O2 -c fdr.c -o fdr.o
gcc -arch ppc -isysroot /Developer/SDKs/MacOSX10.4u.sdk -mmacosx-version-min=10.4 -std=gnu99 -dynamiclib -Wl,-headerpad_max_install_names -Wl,-macosx_version_min -Wl,10.4 -undefined dynamic_lookup -single_module -multiply_defined suppress -L/usr/local/lib -o fdrame.so fdr.o   -F/Library/Frameworks/R.framework/.. -framework R 
** R
** data
** inst
** preparing package for lazy loading
Loading required package: tcltk
Loading Tcl/Tk interface ... done
** help
 >>> Building/Updating help pages for package 'fdrame'
     Formats: text html latex example 
  design                            text    html    latex   example
  exp.arr                           text    html    latex   example
  fdr-internal                      text    html    latex
  fdrgui                            text    html    latex   example
  fdrma                             text    html    latex   example
** building package indices ...
* DONE (fdrame)