| edd 1.16.0 Vince Carey
 
 | Snapshot Date: 2008-04-09 12:13:20 -0700 (Wed, 09 Apr 2008) |  | URL: https://hedgehog.fhcrc.org/bioconductor/branches/RELEASE_2_1/madman/Rpacks/edd |  | Last Changed Rev: 27709 / Revision: 30966 |  | Last Changed Date: 2007-10-02 17:41:09 -0700 (Tue, 02 Oct 2007) | 
 | lamb1 | Linux (SUSE 10.1) / x86_64 | OK | OK |  | 
| wilson2 | Linux (openSUSE 10.3) / x86_64 | OK | OK |  | 
| wellington | Linux (openSUSE 10.3) / i686 | [ OK ] | OK |  | 
| liverpool | Windows Server 2003 R2 (32-bit) / x64 | OK | OK | OK | 
| lemming | Windows Server 2003 (32-bit) / x64 | OK | OK | OK | 
| pitt | Mac OS X Tiger (10.4.11) / i386 | OK | OK | OK | 
* checking for file 'edd/DESCRIPTION' ... OK
* preparing 'edd':
* checking DESCRIPTION meta-information ... OK
* installing the package to re-build vignettes
* Installing *source* package 'edd' ...
** R
** inst
** preparing package for lazy loading
Loading required package: golubEsets
Loading required package: Biobase
Loading required package: tools
Welcome to Bioconductor
  Vignettes contain introductory material. To view, type
  'openVignette()'. To cite Bioconductor, see
  'citation("Biobase")' and for packages 'citation(pkgname)'.
Loading required package: class
Loading required package: nnet
Loading required package: xtable
** help
Note: unmatched right brace in 'eddObsolete' on or after line 54
 >>> Building/Updating help pages for package 'edd'
     Formats: text html latex example 
  centerScale                       text    html    latex   example
  edd                               text    html    latex   example
  eddDist-class                     text    html    latex   example
  eddObsolete                       text    html    latex   example
  flatQQNorm                        text    html    latex   example
  latEDtable                        text    html    latex   example
  makeCandmat.raw                   text    html    latex   example
  maxKSp                            text    html    latex   example
  plotED                            text    html    latex   example
** building package indices ...
* DONE (edd)
* creating vignettes ... OK
* removing junk files
* checking for LF line-endings in source and make files
* checking for empty or unneeded directories
* building 'edd_1.16.0.tar.gz'