| apComplex 2.4.0 Denise Scholtens
 
 | Snapshot Date: 2008-04-09 12:13:20 -0700 (Wed, 09 Apr 2008) |  | URL: https://hedgehog.fhcrc.org/bioconductor/branches/RELEASE_2_1/madman/Rpacks/apComplex |  | Last Changed Rev: 27709 / Revision: 30966 |  | Last Changed Date: 2007-10-02 17:41:09 -0700 (Tue, 02 Oct 2007) | 
 | lamb1 | Linux (SUSE 10.1) / x86_64 | OK | OK |  | 
| wilson2 | Linux (openSUSE 10.3) / x86_64 | OK | OK |  | 
| wellington | Linux (openSUSE 10.3) / i686 | OK | OK |  | 
| liverpool | Windows Server 2003 R2 (32-bit) / x64 | OK | OK | [ OK ] | 
| lemming | Windows Server 2003 (32-bit) / x64 | OK | OK | OK | 
| pitt | Mac OS X Tiger (10.4.11) / i386 | OK | OK | OK | 
installing R.css in E:/biocbld/bbs-2.1-bioc/meat/apComplex.buildbin-libdir
Using auto-selected zip options 'apComplex-ZIPDATA=zip'
---------- Making package apComplex ------------
  adding build stamp to DESCRIPTION
  installing R files
  installing inst files
  installing data files
  installing man source files
  installing indices
  zipping data
  installing help
 >>> Building/Updating help pages for package 'apComplex'
     Formats: text html latex example chm 
  FilteredEstimates                 text    html    latex   example chm
  HMSPCI                            text    html    latex   example chm
  Krogan                            text    html    latex   example chm
  LCjoin                            text    html    latex   example chm
  MBMEcHMSPCI                       text    html    latex   example chm
  MBMEcKrogan                       text    html    latex   example chm
  MBMEcTAP                          text    html    latex   example chm
  TAP                               text    html    latex   example chm
  apEX                              text    html    latex   example chm
  bhmaxSubgraph                     text    html    latex   example chm
  findComplexes                     text    html    latex   example chm
  gavinBP2006                       text    html    latex   example chm
  kroganBPMat2006                   text    html    latex   example chm
  mergeComplexes                    text    html    latex   example chm
  sortComplexes                     text    html    latex   example chm
  yNameTAP                          text    html    latex   example chm
  yTAP                              text    html    latex   example chm
Microsoft HTML Help Compiler 4.74.8702
Compiling e:\biocbld\bbs-2.1-bioc\meat\R.INSTALL.2644\apComplex\chm\apComplex.chm
Compile time: 0 minutes, 2 seconds
18	Topics
94	Local links
0	Internet links
1	Graphic
Created e:\biocbld\bbs-2.1-bioc\meat\R.INSTALL.2644\apComplex\chm\apComplex.chm, 34,922 bytes
Compression decreased file by 28,103 bytes.
  adding MD5 sums
packaged installation of package 'apComplex' as apComplex_2.4.0.zip
* DONE (apComplex)