| adSplit 1.8.0 Claudio Lottaz
 
 | Snapshot Date: 2008-04-09 12:13:20 -0700 (Wed, 09 Apr 2008) |  | URL: https://hedgehog.fhcrc.org/bioconductor/branches/RELEASE_2_1/madman/Rpacks/adSplit |  | Last Changed Rev: 27709 / Revision: 30966 |  | Last Changed Date: 2007-10-02 17:41:09 -0700 (Tue, 02 Oct 2007) | 
 | lamb1 | Linux (SUSE 10.1) / x86_64 | OK | OK |  | 
| wilson2 | Linux (openSUSE 10.3) / x86_64 | OK | OK |  | 
| wellington | Linux (openSUSE 10.3) / i686 | [ OK ] | OK |  | 
| liverpool | Windows Server 2003 R2 (32-bit) / x64 | OK | OK | OK | 
| lemming | Windows Server 2003 (32-bit) / x64 | OK | OK | OK | 
| pitt | Mac OS X Tiger (10.4.11) / i386 | OK | OK | OK | 
* checking for file 'adSplit/DESCRIPTION' ... OK
* preparing 'adSplit':
* checking DESCRIPTION meta-information ... OK
* cleaning src
* installing the package to re-build vignettes
* Installing *source* package 'adSplit' ...
** libs
g++ -I/home/biocbuild/bbs-2.1-bioc/R/include -I/home/biocbuild/bbs-2.1-bioc/R/include  -I/usr/local/include    -fpic  -g -O2 -Wall -c adSplit.cpp -o adSplit.o
adSplit.cpp: In function 'double tscore(double*, int, int, split&, isis_pars&)':
adSplit.cpp:253: warning: deprecated conversion from string constant to 'char*'
adSplit.cpp: In function 'void isis(char**, double*, int*, int*, int*, int*, int*, double*, int*)':
adSplit.cpp:466: warning: deprecated conversion from string constant to 'char*'
g++ -shared -L/usr/local/lib -o adSplit.so adSplit.o   -L/home/biocbuild/bbs-2.1-bioc/R/lib -lR
** R
** data
** inst
** preparing package for lazy loading
Loading required package: cluster
Loading required package: multtest
Loading required package: Biobase
Loading required package: tools
Welcome to Bioconductor
  Vignettes contain introductory material. To view, type
  'openVignette()'. To cite Bioconductor, see
  'citation("Biobase")' and for packages 'citation(pkgname)'.
Loading required package: survival
Loading required package: splines
Loading required package: affy
Loading required package: affyio
Loading required package: preprocessCore
Loading required package: GO
Loading required package: KEGG
** help
 >>> Building/Updating help pages for package 'adSplit'
     Formats: text html latex example 
  adSplit-internal                  text    html    latex
  adSplit                           text    html    latex   example
  diana2means                       text    html    latex   example
  drawRandomPS                      text    html    latex   example
  golubKEGGSplits                   text    html    latex   example
  hist.splitSet                     text    html    latex   example
  image.splitSet                    text    html    latex   example
  makeEID2PROBESenv                 text    html    latex   example
  print.split                       text    html    latex
  print.splitSet                    text    html    latex   example
  randomDiana2means                 text    html    latex   example
** building package indices ...
* DONE (adSplit)
* creating vignettes ... OK
* cleaning src
* removing junk files
* checking for LF line-endings in source and make files
* checking for empty or unneeded directories
* building 'adSplit_1.8.0.tar.gz'