| SAGElyzer 1.16.0 Jianhua Zhang
 
 | Snapshot Date: 2008-04-09 12:13:20 -0700 (Wed, 09 Apr 2008) |  | URL: https://hedgehog.fhcrc.org/bioconductor/branches/RELEASE_2_1/madman/Rpacks/SAGElyzer |  | Last Changed Rev: 27709 / Revision: 30966 |  | Last Changed Date: 2007-10-02 17:41:09 -0700 (Tue, 02 Oct 2007) | 
 | lamb1 | Linux (SUSE 10.1) / x86_64 | OK | WARNINGS |  | 
| wilson2 | Linux (openSUSE 10.3) / x86_64 | [ OK ] | WARNINGS |  | 
| wellington | Linux (openSUSE 10.3) / i686 | OK | WARNINGS |  | 
| liverpool | Windows Server 2003 R2 (32-bit) / x64 | OK | WARNINGS | OK | 
| lemming | Windows Server 2003 (32-bit) / x64 | OK | WARNINGS | OK | 
| pitt | Mac OS X Tiger (10.4.11) / i386 | OK | WARNINGS | OK | 
* checking for file 'SAGElyzer/DESCRIPTION' ... OK
* preparing 'SAGElyzer':
* checking DESCRIPTION meta-information ... OK
* installing the package to re-build vignettes
* Installing *source* package 'SAGElyzer' ...
** R
** data
** exec
** inst
** preparing package for lazy loading
Loading required package: AnnBuilder
Loading required package: Biobase
Loading required package: tools
Welcome to Bioconductor
  Vignettes contain introductory material. To view, type
  'openVignette()'. To cite Bioconductor, see
  'citation("Biobase")' and for packages 'citation(pkgname)'.
Loading required package: XML
Loading required package: annotate
Loading required package: AnnotationDbi
Loading required package: DBI
Loading required package: RSQLite
Loading required package: xtable
Loading required package: tkWidgets
Loading required package: widgetTools
Loading required package: tcltk
Loading Tcl/Tk interface ... done
Attaching package: 'widgetTools'
	The following object(s) are masked from package:xtable :
	 label 
Loading required package: DynDoc
Loading required package: genefilter
Loading required package: survival
Loading required package: splines
** help
 >>> Building/Updating help pages for package 'SAGElyzer'
     Formats: text html latex example 
  SAGELyzer                         text    html    latex   example
  SAGEMapper                        text    html    latex   example
  SAGEToolTips                      text    html    latex   example
  SAGEWidget                        text    html    latex   example
  con4Win                           text    html    latex   example
  getGEOSAGE                        text    html    latex   example
  getNormFactor                     text    html    latex   example
  getTargetRow                      text    html    latex   example
  mergeSAGE                         text    html    latex   example
  mergeSAGEWidget                   text    html    latex   example
  querySAGE                         text    html    latex   example
  support                           text    html    latex   example
** building package indices ...
* DONE (SAGElyzer)
* creating vignettes ... OK
* removing junk files
* checking for LF line-endings in source and make files
* checking for empty or unneeded directories
* building 'SAGElyzer_1.16.0.tar.gz'