| RSNPper 1.12.0 VJ Carey
 
 | Snapshot Date: 2008-04-09 12:13:20 -0700 (Wed, 09 Apr 2008) |  | URL: https://hedgehog.fhcrc.org/bioconductor/branches/RELEASE_2_1/madman/Rpacks/RSNPper |  | Last Changed Rev: 27709 / Revision: 30966 |  | Last Changed Date: 2007-10-02 17:41:09 -0700 (Tue, 02 Oct 2007) | 
 | lamb1 | Linux (SUSE 10.1) / x86_64 | TIMEOUT | skipped |  | 
| wilson2 | Linux (openSUSE 10.3) / x86_64 | TIMEOUT | skipped |  | 
| wellington | Linux (openSUSE 10.3) / i686 | OK | OK |  | 
| liverpool | Windows Server 2003 R2 (32-bit) / x64 | ERROR | skipped | skipped | 
| lemming | Windows Server 2003 (32-bit) / x64 | ERROR | skipped | skipped | 
| pitt | Mac OS X Tiger (10.4.11) / i386 | OK | OK | [ OK ] | 
                INSTALLATION WITH 'R CMD INSTALL RSNPper_1.12.0.tar.gz'
* Installing to library 'RSNPper.buildbin-libdir'
* Installing *source* package 'RSNPper' ...
** R
** inst
** help
 >>> Building/Updating help pages for package 'RSNPper'
     Formats: text html latex example 
  SNPperMeta-class                  text    html    latex   example
  geneInfo                          text    html    latex   example
** building package indices ...
* DONE (RSNPper)