ROC 1.12.0 Vince Carey
 | Snapshot Date: 2008-04-09 12:13:20 -0700 (Wed, 09 Apr 2008) |  | URL: https://hedgehog.fhcrc.org/bioconductor/branches/RELEASE_2_1/madman/Rpacks/ROC |  | Last Changed Rev: 27709 / Revision: 30966 |  | Last Changed Date: 2007-10-02 17:41:09 -0700 (Tue, 02 Oct 2007) |  
  | lamb1  | Linux (SUSE 10.1) / x86_64  |  OK  |  OK  |  | 
| wilson2  | Linux (openSUSE 10.3) / x86_64  |  OK  |  OK  |  | 
| wellington  | Linux (openSUSE 10.3) / i686  |  OK  |  OK  |  | 
| liverpool  | Windows Server 2003 R2 (32-bit) / x64  |  OK  |  OK  |  OK  | 
| lemming  | Windows Server 2003 (32-bit) / x64  |  OK  |  OK  | [ OK ] | 
| pitt  | Mac OS X Tiger (10.4.11) / i386  |  OK  |  OK  |  OK  | 
installing R.css in D:/biocbld/bbs-2.1-bioc/meat/ROC.buildbin-libdir
Using auto-selected zip options ''
---------- Making package ROC ------------
  adding build stamp to DESCRIPTION
  installing NAMESPACE file and metadata
  making DLL ...
making ROC.d from ROC.cc
g++-sjlj   -ID:/biocbld/bbs-2.1-bioc/R/include     -O2 -Wall  -c ROC.cc -o ROC.o
windres --preprocessor="gcc-sjlj -E -xc -DRC_INVOKED" -I D:/biocbld/bbs-2.1-bioc/R/include  -i ROC_res.rc -o ROC_res.o
g++-sjlj   -shared -s  -o ROC.dll ROC.def ROC.o ROC_res.o  -LD:/biocbld/bbs-2.1-bioc/R/bin    -lR
  ... DLL made
  installing DLL
  installing R files
  installing inst files
  preparing package ROC for lazy loading
  installing man source files
  installing indices
  installing help
 >>> Building/Updating help pages for package 'ROC'
     Formats: text html latex example chm 
  AUC                               text    html    latex   example chm
  plot-methods                      text    html    latex   example chm
  rocc-class                        text    html    latex   example chm
  rocdemo.sca                       text    html    latex   example chm
  trapezint                         text    html    latex   example chm
HHC5012: Error: Cannot create a temporary file in your TEMP path.
HHC4016: Warning: Cannot open "51\bin;c:\Program Files\Java\jdk1.5.0_06\bin;c:\program files\imagemagick-6.3.2-q16;c:\Program Files\MySQL\MySQL Server 5.0\bin;c:\Program Files\ggobi".
Microsoft HTML Help Compiler 4.74.8702
Compiling d:\biocbld\bbs-2.1-bioc\meat\R.INSTALL.5740\ROC\chm\ROC.chm
HHC4016: Warning: Cannot open "51\bin;c:\Program Files\Java\jdk1.5.0_06\bin;c:\program files\imagemagick-6.3.2-q16;c:\Program Files\MySQL\MySQL Server 5.0\bin;c:\Program Files\ggobi".
The following files were not compiled:
  adding MD5 sums
packaged installation of package 'ROC' as ROC_1.12.0.zip
* DONE (ROC)